BEGIN:VCALENDAR
VERSION:2.0
PRODID:-//ChamberMaster//Event Calendar 2.0//EN
METHOD:PUBLISH
X-PUBLISHED-TTL:P3D
REFRESH-INTERVAL:P3D
CALSCALE:GREGORIAN
BEGIN:VEVENT
DTSTART:20191016T153000Z
DTEND:20191016T171500Z
X-MICROSOFT-CDO-ALLDAYEVENT:FALSE
SUMMARY:October 2019 Beachwood Chamber Luncheon
DESCRIPTION:Join us as we hear from Peggy Zone Fisher\, President and CEO of The Diversity Center of Northeast Ohio\n\n                           "Eliminating Bias\, Bigotry and Racism in the Workplace"   \n\n\n\nPeggy Zone Fisher is a long-time Cleveland business and community leader\, serving since 2006 as president and CEO of The Diversity Center of Northeast Ohio. Through its partnerships with business and community leaders\, the Center supports the development of inclusive environments where all feel connected\, respected\, and valued.  These practices enable organizations to attract\, recruit\, engage\, and retain the world's best talent. Peggy previously ran Zone Travel\, Inc.\, one of Greater Cleveland's largest woman-owned businesses\, for 30 years.
X-ALT-DESC;FMTTYPE=text/html:<span style="font-size: 14px\;"><span style="font-family: times new roman\;">Join us as we hear from Peggy Zone Fisher\, President and CEO of The Diversity Center of Northeast Ohio</span></span><br />\n&nbsp\;&nbsp\;&nbsp\;&nbsp\;&nbsp\;&nbsp\;&nbsp\;&nbsp\;&nbsp\;&nbsp\;&nbsp\;&nbsp\;&nbsp\;&nbsp\;&nbsp\;&nbsp\;&nbsp\;&nbsp\;&nbsp\;&nbsp\;&nbsp\;&nbsp\;&nbsp\;&nbsp\;&nbsp\;&nbsp\; <span style="font-size: 16px\;"><strong>&quot\;Eliminating Bias\, Bigotry and Racism in the Workplace&quot\;&nbsp\;&nbsp\;&nbsp\;</strong></span><br />\n<br />\n<span style="font-size: 14px\;"><span style="font-family: times new roman\;">Peggy Zone Fisher is a long-time Cleveland business and community leader\, serving since 2006 as president and CEO of The Diversity Center of Northeast Ohio. Through its partnerships with business and community leaders\, the Center supports the development of inclusive environments where all feel connected\, respected\, and valued.&nbsp\; These practices enable organizations to attract\, recruit\, engage\, and retain the world&rsquo\;s best talent. Peggy previously ran Zone Travel\, Inc.\, one of Greater Cleveland&rsquo\;s largest woman-owned businesses\, for 30 years.</span></span><br />\n&nbsp\;
LOCATION:Doubletree by Hilton 3663 Park East Drive Beachwood\, OH 44122
UID:e.368.8097
SEQUENCE:3
DTSTAMP:20260420T145843Z
URL:https://public.beachwood.org/events/details/october-2019-beachwood-chamber-luncheon-8097
END:VEVENT

END:VCALENDAR
