BEGIN:VCALENDAR
VERSION:2.0
PRODID:-//ChamberMaster//Event Calendar 2.0//EN
METHOD:PUBLISH
X-PUBLISHED-TTL:P3D
REFRESH-INTERVAL:P3D
CALSCALE:GREGORIAN
BEGIN:VEVENT
DTSTART:20181003T210000Z
DTEND:20181003T223000Z
X-MICROSOFT-CDO-ALLDAYEVENT:FALSE
SUMMARY:October 2018 Networking After Five - CANCELLED
DESCRIPTION:Beachwood Chamber Networking After Five: Wednesday\, October 3\, 2018 - CANCELLED!\nWe look forward to seeing you at our November November 7th networking event at CycleBar.
X-ALT-DESC;FMTTYPE=text/html:<p><span style="color:#0033cc\;"><strong>Beachwood Chamber Networking After Five: Wednesday\, October 3\, 2018 - CANCELLED!</strong></span></p>\nWe look forward to seeing you at our November November 7th networking event at CycleBar.&nbsp\;
LOCATION:B
UID:e.368.6451
SEQUENCE:3
DTSTAMP:20260420T145558Z
URL:https://public.beachwood.org/events/details/october-2018-networking-after-five-cancelled-6451
END:VEVENT

END:VCALENDAR
