BEGIN:VCALENDAR
VERSION:2.0
PRODID:-//ChamberMaster//Event Calendar 2.0//EN
METHOD:PUBLISH
X-PUBLISHED-TTL:P3D
REFRESH-INTERVAL:P3D
CALSCALE:GREGORIAN
BEGIN:VEVENT
DTSTART:20141111T220000Z
DTEND:20141111T233000Z
X-MICROSOFT-CDO-ALLDAYEVENT:FALSE
SUMMARY:November Networking After Five
DESCRIPTION:Registration Closed\n\nWalk- In's are Welcome!\n\n\n\nNovember Networking After Five    \n\n\n\n\n\nJoin us at the Microsoft Retail Store at Beachwood Place for light refreshments and an informal networking event.
X-ALT-DESC;FMTTYPE=text/html:<span _mce_style="color: #000090\;" style="color: #000090\;"><strong>Registration Closed<br />\nWalk- In&#39\;s are Welcome!</strong></span><br />\n<br />\nNovember Networking After Five&nbsp\;&nbsp\;&nbsp\;&nbsp\;<br />\n<br />\n<br />\nJoin us at the Microsoft Retail Store at Beachwood Place for light refreshments and an informal networking event.
LOCATION:Microsoft Retail Store Beachwood Place
UID:e.368.1123
SEQUENCE:3
DTSTAMP:20260419T225018Z
URL:https://public.beachwood.org/events/details/november-networking-after-five-11-11-2014-1123
END:VEVENT

END:VCALENDAR
