BEGIN:VCALENDAR
VERSION:2.0
PRODID:-//ChamberMaster//Event Calendar 2.0//EN
METHOD:PUBLISH
X-PUBLISHED-TTL:P3D
REFRESH-INTERVAL:P3D
CALSCALE:GREGORIAN
BEGIN:VEVENT
DTSTART:20151104T220000Z
DTEND:20151104T233000Z
X-MICROSOFT-CDO-ALLDAYEVENT:FALSE
SUMMARY:November Networking After Five
DESCRIPTION:PRE-REGISTRATION NOW CLOSED.  WALK-INS WELCOME TONIGHT\n\n\n\nJoin us for the Beachwood Chamber November Networking After Five\n\n\n\nSponsored by:  Saint Martin de Porres High School\n\n\n\nLight refreshments will be served.
X-ALT-DESC;FMTTYPE=text/html:<span style="color:#FF0000\;">PRE-REGISTRATION NOW CLOSED.&nbsp\; WALK-INS WELCOME TONIGHT</span><br />\n<br />\nJoin us for the Beachwood Chamber November Networking After Five<br />\n<br />\nSponsored by:&nbsp\; <span style="font-family:tahoma\,sans-serif\;">Saint Martin de Porres High School</span><br />\n<br />\nLight refreshments will be served.
LOCATION:Beachwood Community Center 25325 Fairmount Boulevard Beachwood\, OH 44122
UID:e.368.1285
SEQUENCE:3
DTSTAMP:20260420T043401Z
URL:https://public.beachwood.org/events/details/november-networking-after-five-11-04-2015-1285
END:VEVENT

END:VCALENDAR
