BEGIN:VCALENDAR
VERSION:2.0
PRODID:-//ChamberMaster//Event Calendar 2.0//EN
METHOD:PUBLISH
X-PUBLISHED-TTL:P3D
REFRESH-INTERVAL:P3D
CALSCALE:GREGORIAN
BEGIN:VEVENT
DTSTART:20191106T163000Z
DTEND:20191106T180000Z
X-MICROSOFT-CDO-ALLDAYEVENT:FALSE
SUMMARY:November 2019 Western Reserve Safety Council Meeting
DESCRIPTION:Topic:  Emergency Preparedness and Action Planning\n\nSpeaker:  Dan Cueno\, Bureau of Worker's Compensation (BWC)\n\n \n \n\n \n\nClick here to Register
X-ALT-DESC;FMTTYPE=text/html:<h1><strong>Topic:&nbsp\; Emergency Preparedness and Action Planning</strong></h1>\n\n<h2><strong><span style="font-family: arial\; font-size: 14px\;"><span style="font-size: 16px\;">Speaker:&nbsp\; Dan Cueno\, Bureau of Worker&#39\;s Compensation (BWC)</span></span></strong></h2>\n\n<p>&nbsp\;</p>\n&nbsp\;\n\n<p -webkit-text-stroke-width:="" font-size:="" font-style:="" font-variant:="" font-weight:="" letter-spacing:="" line-height:="" margin-bottom:="" margin-left:="" margin-right:="" margin-top:="" orphans:="" padding-bottom:="" padding-left:="" padding-right:="" padding-top:="" style="background-color: transparent\; box-sizing: border-box\; color: rgb(0\, 0\, 0)\; font-family: " text-align:="" text-decoration:="" text-indent:="" text-transform:="" titillium="" white-space:="" word-spacing:="">&nbsp\;</p>\n\n<p><a href="https://web.westernreservesc.org/events/WRSCProgram%20%20Emergency%20Preparedness%20%20Action%20Planning-6540/details"><em><strong><span style="font-size:14px\;">Click here to Register</span></strong></em></a></p>\n
LOCATION:Mustard Seed Market & Cafe (second floor) 6025 Kruse Drive Solon\, OH 44139
UID:e.368.8160
SEQUENCE:3
DTSTAMP:20260420T161903Z
URL:https://public.beachwood.org/events/details/november-2019-western-reserve-safety-council-meeting-8160
END:VEVENT

END:VCALENDAR
