BEGIN:VCALENDAR
VERSION:2.0
PRODID:-//ChamberMaster//Event Calendar 2.0//EN
METHOD:PUBLISH
X-PUBLISHED-TTL:P3D
REFRESH-INTERVAL:P3D
CALSCALE:GREGORIAN
BEGIN:VEVENT
DTSTART:20191112T220000Z
DTEND:20191113T000000Z
X-MICROSOFT-CDO-ALLDAYEVENT:FALSE
SUMMARY:November 2019 Networking - Multi-Chamber Networking
DESCRIPTION:Fall Multi-Chamber After-Hours Networking\n\n	Hors D'oeuvres & Cash Bar\n	Complimentary first drink\n	6 Big Gift Drawings\n	Member 2 Member deal table\n\nRegister at: ecchambers.org
X-ALT-DESC;FMTTYPE=text/html:Fall Multi-Chamber After-Hours Networking\n<ul>\n	<li>Hors D&#39\;oeuvres &amp\; Cash Bar</li>\n	<li>Complimentary first drink</li>\n	<li>6 Big Gift Drawings</li>\n	<li>Member 2 Member deal table</li>\n</ul>\nRegister at: <a href="http://ecchambers.org">ecchambers.org</a><br />\n&nbsp\;
LOCATION:Cleveland Marriott East Harvard Park 26300 Harvard Road Warrensville Hts 44128
UID:e.368.8104
SEQUENCE:3
DTSTAMP:20260420T161417Z
URL:https://public.beachwood.org/events/details/november-2019-networking-multi-chamber-networking-8104
END:VEVENT

END:VCALENDAR
