BEGIN:VCALENDAR
VERSION:2.0
PRODID:-//ChamberMaster//Event Calendar 2.0//EN
METHOD:PUBLISH
X-PUBLISHED-TTL:P3D
REFRESH-INTERVAL:P3D
CALSCALE:GREGORIAN
BEGIN:VEVENT
DTSTART:20171101T204500Z
DTEND:20171101T223000Z
X-MICROSOFT-CDO-ALLDAYEVENT:FALSE
SUMMARY:November 2017 Networking After Five
DESCRIPTION:ONLINE REGISTRATION CLOSED\n\nWALK-INS WELCOME AT THE EVENT\n\nFREE FOR BCC MEMBERS - $10 FOR NON-MEMBERS\n\n\n\nBeachwood Chamber Networking After Five: Wednesday\, November 1\, 2017\n\nStart the month by joining us for our November Networking After Five event at CycleBar Beachwood.\n\n\n\nNetworking will be from 4:45 until 5:30.  Bring your cycle clothes\, for those interested\, you may join a 5:30 spinning class for FREE!\n\n \n\nCycleBar will be raffling off a very generous package valued at $175 to those in attendance!\n\n\n\nEnjoy ...\n\n\n	Beer\, wine and light bites\n	Learn new networking tips and tricks\n	 Drop your business card for a chance to win a gift certificate\n	You won't want to miss your chance to win cash.  Every Beachwood Chamber member company name that has attended networking after five in the past year is placed in a hopper.  If your company name is pulled from the hopper and you are in attendance\, you win cash. If you were not there\, the current cash goes back into the pot and $25 more is added the next month!   It continues each month until there is a winner\, then we start again at $25.
X-ALT-DESC;FMTTYPE=text/html:<p style="text-align: center\;"><span style="color:#FF0000\;"><strong>ONLINE REGISTRATION CLOSED<br />\nWALK-INS WELCOME AT THE EVENT<br />\nFREE FOR BCC MEMBERS - $10 FOR NON-MEMBERS</strong></span></p>\n\n<p><br />\n<span style="color:#0033cc\;"><strong>Beachwood Chamber Networking After Five: Wednesday\, November 1\, 2017</strong></span></p>\n\n<p>Start the month by joining us for our November&nbsp\;Networking After Five event<strong> </strong>at<strong> CycleBar Beachwood.<br />\n<br />\nNetworking will be from 4:45 until 5:30.&nbsp\; Bring your cycle clothes\, for those interested\, you may join a 5:30 spinning class for FREE!</strong><br />\n&nbsp\;<br />\n<strong>CycleBar will be raffling off a very generous package valued at $175 to those in attendance!</strong><br />\n<br />\nEnjoy ...</p>\n\n<ul>\n	<li>Beer\, wine and light bites</li>\n	<li>Learn new networking tips and tricks</li>\n	<li>&nbsp\;Drop your business card for a chance to win a gift certificate</li>\n	<li>You won&#39\;t want to miss your chance to win<em> cash</em>.&nbsp\; Every Beachwood Chamber member company name that has attended networking after five in the past year&nbsp\;is placed in a hopper.&nbsp\; If your company name is pulled from the hopper and you are in attendance\, you win cash. If you were not there\, the current cash goes back into the pot and $25 more is added the next month! &nbsp\; It continues each month until there is a winner\, then we start again at $25. &nbsp\;</li>\n</ul>\n
LOCATION:CycleBar Beachwood 3355 Richmond Road Suite 101A Beachwood\, OH 44122
UID:e.368.6260
SEQUENCE:3
DTSTAMP:20260421T060105Z
URL:https://public.beachwood.org/events/details/november-2017-networking-after-five-6260
END:VEVENT

END:VCALENDAR
