BEGIN:VCALENDAR
VERSION:2.0
PRODID:-//ChamberMaster//Event Calendar 2.0//EN
METHOD:PUBLISH
X-PUBLISHED-TTL:P3D
REFRESH-INTERVAL:P3D
CALSCALE:GREGORIAN
BEGIN:VEVENT
DTSTART:20140406T180000Z
DTEND:20140406T192500Z
X-MICROSOFT-CDO-ALLDAYEVENT:FALSE
SUMMARY:Not About Heroes: Siegfreed Sassoon and Wilfred Owen\, Poets of the Trenches
DESCRIPTION:Not About Heroes\n\n\n\nSunday\, April 6\, 2014 at 2PM  \n\n\n\nIn Celebration of national Poetry Month \n\n\n\nIt was an amazing coincidence that Britain's two strongest World War I anti-war soldiers and literary figures should meet at the infamous Craiglockhart War Hospital for those men wounded in mind\, body or both. But meet they did and formed a lasting creative and affectionate friendship until Owen's tragic death in France just before the end of the fighting. Together they served as alternately teacher and pupil as they explored and expanded each others literary horizons.\n\n\n\nThe text of this performance is taken largely from some of their most powerful poems and excerpted from Stephen MacDonald's critically acclaimed play\, " Not About Heroes"\, written about these two comrades in arms and in life. The readings will be subtly underscored by the music of Rebecca Clarke and Benjamin Britten\, who used Wilfred Owen's evocative poetry in the composition of his magnificent "War Requiem."\n\n\n\nReservations at www.cuyahogalibrary.orf or call 216-831-6868. Seating is on a first come first serve basis
X-ALT-DESC;FMTTYPE=text/html:Not About Heroes<br />\n<br />\nSunday\, April 6\, 2014 at 2PM&nbsp\;&nbsp\;<br />\n<br />\nIn Celebration of national Poetry Month&nbsp\;<br />\n<br />\nIt was an amazing coincidence that Britain&rsquo\;s two strongest World War I anti-war soldiers and literary figures should meet at the infamous Craiglockhart War Hospital for those men wounded in mind\, body or both. But meet they did and formed a lasting creative and affectionate friendship until Owen&rsquo\;s tragic death in France just before the end of the fighting. Together they served as alternately teacher and pupil as they explored and expanded each others literary horizons.<br />\n<br />\nThe text of this performance is taken largely from some of their most powerful poems and excerpted from Stephen MacDonald&rsquo\;s critically acclaimed play\, &ldquo\; Not About Heroes&rdquo\;\, written about these two comrades in arms and in life. The readings will be subtly underscored by the music of Rebecca Clarke and Benjamin Britten\, who used Wilfred Owen&rsquo\;s evocative poetry in the composition of his magnificent &ldquo\;War Requiem.&rdquo\;<br />\n<br />\nReservations at <a href="http://www.cuyahogalibrary.orf">www.cuyahogalibrary.orf</a> or call 216-831-6868. Seating is on a first come first serve basis<br />\n&nbsp\;
LOCATION:Beachwood Branch of Cuyahoga County Public Library 25501 Shaker Blvd Beachwood OH 44122
UID:e.368.1086
SEQUENCE:3
DTSTAMP:20260420T090803Z
URL:https://public.beachwood.org/events/details/not-about-heroes-siegfreed-sassoon-and-wilfred-owen-poets-of-the-trenches-04-06-2014-1086
END:VEVENT

END:VCALENDAR
