BEGIN:VCALENDAR
VERSION:2.0
PRODID:-//ChamberMaster//Event Calendar 2.0//EN
METHOD:PUBLISH
X-PUBLISHED-TTL:P3D
REFRESH-INTERVAL:P3D
CALSCALE:GREGORIAN
BEGIN:VEVENT
DTSTART;VALUE=DATE:20090320
DTEND;VALUE=DATE:20090321
TRANSP:TRANSPARENT
X-MICROSOFT-CDO-ALLDAYEVENT:TRUE
SUMMARY:Nordstrom Fits America
DESCRIPTION:NORDSTROM FITS AMERICAFriday\, March 20\, 2009 You are invited to receive a complimentary bra fitting from a Nordstrom's certified fit experts and -- for every bra purchased -- $2 will be donated by Nordstrom and participating brands to the local chapter of Susan B. Komen For The Cure. To learn more\, contact Nordstrom's Lingerie. Certified stylists are available to help every day\, so stop by any time for your personal fitting. Nordstrom would love to host a "Girlfriend Party" for you and your friends. To learn more\, connect with your favorite sales person or call Lingerie at 26-378-2121 ext. 1240.
X-ALT-DESC;FMTTYPE=text/html:<div>NORDSTROM FITS AMERICA</div><div>Friday\, March 20\, 2009</div><div>&nbsp\;</div><div>You are invited to receive a complimentary bra fitting from a Nordstrom's certified fit experts and -- for every bra purchased -- $2 will be donated by Nordstrom and participating brands to the local chapter of Susan B. Komen For The Cure.</div><div>&nbsp\;</div><div>To learn more\, contact Nordstrom's Lingerie.</div><div>&nbsp\;</div><div>Certified stylists are available to help every day\, so stop by any time for your personal fitting. Nordstrom would love to host a &quot\;Girlfriend Party&quot\; for you and your friends. To learn more\, connect with your favorite sales person or call Lingerie at 26-378-2121 ext. 1240.</div>
LOCATION:Nordstrom Lingerie Beachwood Place
UID:e.368.172
SEQUENCE:3
DTSTAMP:20260423T202423Z
URL:https://public.beachwood.org/events/details/nordstrom-fits-america-03-20-2009-172
END:VEVENT

END:VCALENDAR
