BEGIN:VCALENDAR
VERSION:2.0
PRODID:-//ChamberMaster//Event Calendar 2.0//EN
METHOD:PUBLISH
X-PUBLISHED-TTL:P3D
REFRESH-INTERVAL:P3D
CALSCALE:GREGORIAN
BEGIN:VEVENT
DTSTART:20160329T123000Z
DTEND:20160329T133000Z
X-MICROSOFT-CDO-ALLDAYEVENT:FALSE
SUMMARY:No Diet Weight Solution Information Session
DESCRIPTION:No Diet Weight Solution Information Session\n\n\n\nTired of diets?\n\nTired of re-gaining lost weight?\n\nAre you an emotional eater?\n\n\n\nNo Diet Weight Solution is the answer for you!\n\n\n\nNo Diet Weight Solutions (NDWS) is proud bring it's safe\, simple\, doctor approved and recommended program to Beachwood Chamber Members and at an amazingly discounted rate.\n\n\n\nPlease join us Tuesday\, March 29\, 2016 from 8:30 a.m.   9:30 a.m. at Homewood Suites\, Beachwood for a FREE information session to learn more about this proven program which truly is weight loss without dieting.\n\n \n\nWhat to expect from NDWS:\n\n	Achieve consistent weight loss without shots\, pills\, drinks special meals\, deprivation or inconvenience.\n	An end to emotion eating and yo-yo dieting.\n	Lean when and how to eat to lose your excess weight\n	Learn what healthy eating really is and how to achieve it\n	How do deal with food without gaining eight at home\, work\, while traveling\, with friends and in restaurants\n	How to eat during the holidays without gaining weight or feeling deprived.\n\n" Using my closet as my scale\, I went from a size 12 to 6 in just 3 months by just changing my relationship with food.  I truly have become a different person\, inside and out "   Cindy Caldwell.
X-ALT-DESC;FMTTYPE=text/html:No Diet Weight Solution Information Session<br />\n<br />\nTired of diets?<br />\nTired of re-gaining lost weight?<br />\nAre you an emotional eater?<br />\n<br />\nNo Diet Weight Solution is the answer for you!<br />\n<br />\nNo Diet Weight Solutions (NDWS) is proud bring it&rsquo\;s safe\, simple\, doctor approved and recommended program to Beachwood Chamber Members and at an amazingly discounted rate.<br />\n<br />\nPlease join us Tuesday\, March 29\, 2016 from 8:30 a.m. &ndash\; 9:30 a.m. at Homewood Suites\, Beachwood for a FREE information session to learn more about this proven program which truly is weight loss without dieting.<br />\n&nbsp\;<br />\nWhat to expect from NDWS:\n<ul>\n	<li>Achieve consistent weight loss without shots\, pills\, drinks special meals\, deprivation or inconvenience.</li>\n	<li>An end to emotion eating and yo-yo dieting.</li>\n	<li>Lean when and how to eat to lose your excess weight</li>\n	<li>Learn what healthy eating really is and how to achieve it</li>\n	<li>How do deal with food without gaining eight at home\, work\, while traveling\, with friends and in restaurants</li>\n	<li>How to eat during the holidays without gaining weight or feeling deprived.</li>\n</ul>\n&ldquo\;&hellip\;Using my closet as my scale\, I went from a size 12 to 6 in just 3 months by just changing my relationship with food.&nbsp\; I truly have become a different person\, inside and out&hellip\;&rdquo\; &ndash\; Cindy Caldwell.<br />\n<br />\n&nbsp\;
LOCATION:Homewood Suites Beachwood 25725 Central Parkway Beachwood\, OH 44122
UID:e.368.4824
SEQUENCE:3
DTSTAMP:20260420T102228Z
URL:https://public.beachwood.org/events/details/no-diet-weight-solution-information-session-03-29-2016-4824
END:VEVENT

END:VCALENDAR
