BEGIN:VCALENDAR
VERSION:2.0
PRODID:-//ChamberMaster//Event Calendar 2.0//EN
METHOD:PUBLISH
X-PUBLISHED-TTL:P3D
REFRESH-INTERVAL:P3D
CALSCALE:GREGORIAN
BEGIN:VEVENT
DTSTART:20150725T000000Z
DTEND:20150725T030000Z
X-MICROSOFT-CDO-ALLDAYEVENT:FALSE
SUMMARY:Nick Costa & Bill Pirie at Valenti's Ristornante!
DESCRIPTION:Nick and Bill on a Friday night!  Fabulous!  They are truly amazing!  Nick can sing Frank Sinatra\, Dean Martin\, Tom Jones -- EVERYONE!
X-ALT-DESC;FMTTYPE=text/html:Nick and Bill on a Friday night!&nbsp\; Fabulous!&nbsp\; They are truly amazing!&nbsp\; Nick can sing Frank Sinatra\, Dean Martin\, Tom Jones -- EVERYONE!
LOCATION:3365 Richmond Road Suite 130 Beachwood\, OH 44122
UID:e.368.3760
SEQUENCE:3
DTSTAMP:20260420T002653Z
URL:https://public.beachwood.org/events/details/nick-costa-bill-pirie-at-valenti-s-ristornante-07-24-2015-3760
END:VEVENT

END:VCALENDAR
