BEGIN:VCALENDAR
VERSION:2.0
PRODID:-//ChamberMaster//Event Calendar 2.0//EN
METHOD:PUBLISH
X-PUBLISHED-TTL:P3D
REFRESH-INTERVAL:P3D
CALSCALE:GREGORIAN
BEGIN:VEVENT
DTSTART:20140327T160000Z
DTEND:20140327T180000Z
X-MICROSOFT-CDO-ALLDAYEVENT:FALSE
SUMMARY:Newsnet5.com: The Acceleration of Everything
DESCRIPTION:Newsnet5.com cordially invites you to:\n\n\n\nThe Acceleration of Everything: Separating Yourself in the New Digital Age\n\n\n\nMarch 27\, 2014 ~ 12:00-2:00 PM\n\nThe City Club Building\n\n850 Euclid Avenue\, 2nd Floor\n\nCleveland\, OH 44114\n\n\n\nGuest Speaker:  Ty Schlegel\, Strategic Partnerships Manager--Google\n\n\n\nIn the digital age\, it is critical for entrepreneurs and small business owners to have a strategic business plan that includes a strategy for helping their potential customers find them on the internet.  Newsnet5.com is On Your Side\, partnering with Google as a premier partner for the SEM solutions to help you learn how to build a strong foundation for your small business. \n\n\n\nPlease join us for this strategic lunch seminar.  RSVP to Jessica.Santiago@wews.com by March 17th indicating how many will be attending from your organization.\n\n\n\nThere is no charge for this event and lunch will be provided.\n\n\n\n&Google AdWords SEM solution discounted pricing available to participants just for attending this event.
X-ALT-DESC;FMTTYPE=text/html:Newsnet5.com cordially invites you to:<br />\n<br />\nThe Acceleration of Everything: Separating Yourself in the New Digital Age<br />\n<br />\nMarch 27\, 2014 ~ 12:00-2:00 PM<br />\nThe City Club Building<br />\n850 Euclid Avenue\, 2nd Floor<br />\nCleveland\, OH 44114<br />\n<br />\nGuest Speaker:&nbsp\; Ty Schlegel\, Strategic Partnerships Manager--Google<br />\n<br />\nIn the digital age\, it is critical for entrepreneurs and small business owners to have a strategic business plan that includes a strategy for helping their potential customers find them on the internet.&nbsp\; Newsnet5.com is On Your Side\, partnering with Google as a premier partner for the SEM solutions to help you learn how to build a strong foundation for your small business.&nbsp\;<br />\n<br />\nPlease join us for this strategic lunch seminar.&nbsp\; RSVP to <a href="mailto:jessica.santiago@wews.com">Jessica.Santiago@wews.com</a> by March 17th indicating how many will be attending from your organization.<br />\n<br />\nThere is no charge for this event and lunch will be provided.<br />\n<br />\n&amp\;Google AdWords SEM solution discounted pricing available to participants just for attending this event.<br />\n&nbsp\;
LOCATION:The City Club Building 850 Euclid Ave\, 2nd floor Cleveland\, OH 44114
UID:e.368.1084
SEQUENCE:3
DTSTAMP:20260420T115442Z
URL:https://public.beachwood.org/events/details/newsnet5-com-the-acceleration-of-everything-03-27-2014-1084
END:VEVENT

END:VCALENDAR
