BEGIN:VCALENDAR
VERSION:2.0
PRODID:-//ChamberMaster//Event Calendar 2.0//EN
METHOD:PUBLISH
X-PUBLISHED-TTL:P3D
REFRESH-INTERVAL:P3D
CALSCALE:GREGORIAN
BEGIN:VEVENT
DTSTART:20141117T173000Z
DTEND:20141117T180000Z
X-MICROSOFT-CDO-ALLDAYEVENT:FALSE
SUMMARY:NEW Public Webinar Session Begins!
DESCRIPTION:If diets really worked\, wouldn't there just be 1?\n\nToday is the start date for the next No Diet Weight Solution Webinar Session!  Over the next 11 weeks\, through 9 sessions\, learn how to tell the difference between physical body hunger and emotional mind hunger...and what to feed both!  Join us and learn how your body was meant to eat\, lose weight\, and keep it off...once and for all!  Learn more and register at www.nodietweightsolution.com.  We look forward to working with you!\n\n \n\nTestimonials\n\n\n"Your No Diet Weight Solution program is absolutely 'freeing'. I no longer have to count calories or measure out portions\, all I have to think about is\, am I truly body hungry and am I satisfied." Pamela
X-ALT-DESC;FMTTYPE=text/html:If diets really worked\, wouldn&#39\;t there just be 1?<br />\nToday is the start date for the next No Diet Weight Solution Webinar Session!&nbsp\; Over the next 11 weeks\, through 9 sessions\, learn how to tell the difference between physical body hunger and emotional mind hunger...and what to feed both!&nbsp\; Join us and learn how your body was meant to eat\, lose weight\, and keep it off...once and for all!&nbsp\; Learn more and register at www.nodietweightsolution.com.&nbsp\; We look forward to working with you!<br />\n&nbsp\;\n<div class="widget QuoteRotator_displayWidget" id="flexi-quote-rotator">\n<h3 class="widget-title">Testimonials</h3>\n\n<div id="quotearea" style="color: #4a7a59\; font-size: 14px">\n<div id="quoterotator" jquery111007962272874234071="89" style="filter: alpha(opacity=89.5671)\; zoom: 1\; display: block"><span class="quotemark" id="openquote">&ldquo\;</span><span id="quote">Your No Diet Weight Solution program is absolutely &#39\;freeing&#39\;. I no longer have to count calories or measure out portions\, all I have to think about is\, am I truly body hungry and am I satisfied.</span><span class="quotemark" id="closequote">&rdquo\;</span> <span id="quoteauthor">Pamela</span></div>\n</div>\n</div>\n
LOCATION:Webinar Classes (we use GoToWebinar)
UID:e.368.1171
SEQUENCE:3
DTSTAMP:20260419T225202Z
URL:https://public.beachwood.org/events/details/new-public-webinar-session-begins-11-17-2014-1171
END:VEVENT

END:VCALENDAR
