BEGIN:VCALENDAR
VERSION:2.0
PRODID:-//ChamberMaster//Event Calendar 2.0//EN
METHOD:PUBLISH
X-PUBLISHED-TTL:P3D
REFRESH-INTERVAL:P3D
CALSCALE:GREGORIAN
BEGIN:VEVENT
DTSTART:20160119T000000Z
DTEND:20160119T013000Z
X-MICROSOFT-CDO-ALLDAYEVENT:FALSE
SUMMARY:New Perspectives on Martin Luther King Jr
DESCRIPTION:On this day of commemorating the iconic life of MLK\, we will also discover and discuss the iconic life of Anne Frank whose writings reveal a parallel worldview to Dr. King's. Both of these icons and heroes of the 20th century were born in 1929 and would have turned 87 this year if they had lived.\n\n\n\nAbout the Presenter: Fern Ruth Levy is the Director and Founder of the Anne Frank Moral Courage project. She has met and interviewed 4 people who knew Anne Frank and her family and is one of the foremost Holocaust Educators in the greater Cleveland area.
X-ALT-DESC;FMTTYPE=text/html:On this day of commemorating the iconic life of MLK\, we will also discover and discuss the iconic life of Anne Frank whose writings reveal a parallel worldview to Dr. King&#39\;s. Both of these icons and heroes of the 20th century were born in 1929 and would have turned 87 this year if they had lived.<br />\n<br />\nAbout the Presenter: Fern Ruth Levy is the Director and Founder of the Anne Frank Moral Courage project. She has met and interviewed 4 people who knew Anne Frank and her family and is one of the foremost Holocaust Educators in the greater Cleveland area.
LOCATION:Beachwood Branch of Cuyahoga County Public Library 25501 Shaker Blvd Beachwood OH 44122
UID:e.368.4811
SEQUENCE:3
DTSTAMP:20260420T074411Z
URL:https://public.beachwood.org/events/details/new-perspectives-on-martin-luther-king-jr-01-18-2016-4811
END:VEVENT

END:VCALENDAR
