BEGIN:VCALENDAR
VERSION:2.0
PRODID:-//ChamberMaster//Event Calendar 2.0//EN
METHOD:PUBLISH
X-PUBLISHED-TTL:P3D
REFRESH-INTERVAL:P3D
CALSCALE:GREGORIAN
BEGIN:VEVENT
DTSTART:20080925T033000Z
DTEND:20080924T171500Z
X-MICROSOFT-CDO-ALLDAYEVENT:FALSE
SUMMARY:NETWORKING LUNCHEON-SEPTEMBER
DESCRIPTION:Let's NETWORK!Registration extended until Noon today!Join the Chamber and this month's sponsor--Branding Solutions--on Wednesday\, September 24th\, 11:30 AM-1:15 PM\, at Hawthorne Valley Country Club\, for our twice yearly NETWORKING LUNCHEON!All seating is industry exclusive for both lunch and dessert.  So you will network with 14 other individuals/businesses who do not compete with your business/service.  And\, if you arrive by 11:40\, you will have time for additional networking and a chance to win a free lunch for our November luncheon.We are working with a new database.  To assist the Chamber staff in making table assignments\, please add a few notes under COMMENTS when registering online about your business.  If you are with a bank or other financial-type service\, for instance\, please let us know which area you are involved with\, i.e.\, small business banking\, retirement\, financial planning.  Thank you.Register online and receive an immediate acknowledge of your reservation which is also your receipt of payment by credit card.Cost: $25 -- members\; $30 -- nonmembers.RSVP deadline: We must have your reservation by the end of the day on Friday\, September 19th. Walk-ins: We cannot accept walk-ins since we may not be able to maintain industry exclusivity at the tables.Dietary restrictions: Please note in COMMENTS if you have dietary restrictions such as vegetarian\, non-dairy\, etc. We need to let our host locations in advance in order to accommodate your requirements.
X-ALT-DESC;FMTTYPE=text/html:<p><font color="#0000ff" size="3"><em><strong>Let&rsquo\;s NETWORK!</strong></em></font></p><div><font color="#800000" size="4">Registration extended until&nbsp\;Noon today!</font></div><p><font color="#333399">Join the Chamber and this month&rsquo\;s sponsor--</font><a href="http://www.brandingsolutionsinc.com"><font color="#333399">Branding Solutions</font></a><font color="#333399">--on Wednesday\, September 24th\, 11:30 AM-1:15 PM\, at Hawthorne Valley Country Club\, for our twice yearly NETWORKING LUNCHEON!</font></p><p><font color="#333399">All seating is industry exclusive for both lunch and dessert.&nbsp\; So you will network with 14 other individuals/businesses who do not compete with your business/service.&nbsp\; And\, if you arrive by 11:40\, you will have time for additional networking and a chance to win a free lunch for our November luncheon.</font></p><p><font color="#333399">We are working with a new database.&nbsp\; To assist the Chamber staff in making table assignments\, please add a few notes under COMMENTS when registering online about your business.&nbsp\; If you are with a bank or other financial-type service\, for instance\, please let us know which area you are involved with\, i.e.\, small business banking\, retirement\, financial planning.&nbsp\; Thank you.</font></p><p><font color="#333399">Register online and receive an immediate acknowledge of your reservation which is also your receipt of payment by credit card</font>.</p><p><strong><font color="#000080">Cost:</font></strong> <font color="#333399">$25 -- members\; $30 -- nonmembers.</font></p><p><strong><font color="#000080">RSVP deadline</font></strong>: <font color="#333399">We must have your reservation by the end of the day on Friday\, September 19th.&nbsp\;</font></p><p><strong><font color="#000080">Walk-ins</font></strong>: <font color="#333399">We cannot accept walk-ins since we may not be able to maintain industry exclusivity at the tables.</font></p><p><strong><font color="#000080">Dietary restrictions</font></strong>: <font color="#333399">Please note in COMMENTS if you have dietary restrictions such as vegetarian\, non-dairy\, etc. We need to let our host locations <em><strong>in advance</strong></em> in order to accommodate your requirements.</font></p>
LOCATION:Hawthorne Valley Country Club27840 Aurora RoadSolon
UID:e.368.84
SEQUENCE:3
DTSTAMP:20260424T032001Z
URL:https://public.beachwood.org/events/details/networking-luncheon-september-09-24-2008-84
END:VEVENT

END:VCALENDAR
