BEGIN:VCALENDAR
VERSION:2.0
PRODID:-//ChamberMaster//Event Calendar 2.0//EN
METHOD:PUBLISH
X-PUBLISHED-TTL:P3D
REFRESH-INTERVAL:P3D
CALSCALE:GREGORIAN
BEGIN:VEVENT
DTSTART:20090326T033000Z
DTEND:20090325T171500Z
X-MICROSOFT-CDO-ALLDAYEVENT:FALSE
SUMMARY:NETWORKING LUNCHEON
DESCRIPTION:March is networking month.  Not only do we have our regular monthly networking events\, but we also have our twice yearly Networking Luncheon. This month's luncheon is sponsored by Toshiba Business Solutions.This month we are holding the luncheon at Beachwood's Community Center and providing a Box Lunch for attendees.  By doing so\, we are able to lower the cost for the March luncheon.$14 for Beachwood Chamber members$20 for nonmembersWe will have limited seating and will not be able to accept walk-ins the day of the event.  We request that you register and pay online.  Under "comments\," if you work for a bank or in insurance\, please specify your area of expertise. Our networking lucheons are Industry Exclusive and enable members to network with 7 individuals during the 1st half and another 7 individuals during the 2nd half.  And\, for those who arrive between 11:30 and 11:40 AM ... you have an additional opportunity to network with attendees while being entered to win a free lunch for the coming month. Any questions\, please contact the Chamber at 216-831-0003 or email us at mail@beachwood.org.
X-ALT-DESC;FMTTYPE=text/html:<p>March is networking month.&nbsp\; Not only do we have our regular monthly networking events\, but we also have our twice yearly Networking Luncheon. This month&rsquo\;s luncheon is sponsored by Toshiba <a href="http://tbsohio.toshiba.com/ohio/index.shtml">Business Solutions.</a></p><p>This month we are holding the luncheon at Beachwood&rsquo\;s Community Center and providing a Box Lunch for attendees.&nbsp\; By doing so\, we are able to lower the cost for the March luncheon.</p><ul><li>$14 for Beachwood Chamber members</li><li>$20 for nonmembers</li></ul><div>We will have limited seating and will not be able to accept walk-ins the day of the event.&nbsp\; We request that you register and pay online.&nbsp\; Under &quot\;comments\,&quot\; if you work for a bank or in insurance\, please specify your area of expertise.</div><div>&nbsp\;</div><div>Our networking lucheons are Industry Exclusive and enable members to network with 7 individuals during the 1st half and another 7 individuals during the 2nd half.&nbsp\; And\, for those who arrive between 11:30 and 11:40 AM ... you have an additional opportunity to network with attendees while being entered to win a free lunch for the coming month.</div><div>&nbsp\;</div><div>Any questions\, please contact the Chamber at 216-831-0003 or email us at <a href="mailto:mail@beachwood.org">mail@beachwood.org</a>.</div><div>&nbsp\;</div>
LOCATION:City of BeachwoodCommunity CenterMunicipal ComplexFairmount Blvd.
UID:e.368.165
SEQUENCE:3
DTSTAMP:20260423T201823Z
URL:https://public.beachwood.org/events/details/networking-luncheon-03-25-2009-165
END:VEVENT

END:VCALENDAR
