BEGIN:VCALENDAR
VERSION:2.0
PRODID:-//ChamberMaster//Event Calendar 2.0//EN
METHOD:PUBLISH
X-PUBLISHED-TTL:P3D
REFRESH-INTERVAL:P3D
CALSCALE:GREGORIAN
BEGIN:VEVENT
DTSTART:20180626T210000Z
DTEND:20180626T223000Z
X-MICROSOFT-CDO-ALLDAYEVENT:FALSE
SUMMARY:Networking Event - Crestmont Cadillac
DESCRIPTION:SPECIAL NETWORKING EVENT!\n\n\nJoin us for an open-house networking event on June 26th at Crestmont Cadillac!\n\n\n\nCrestmont Cadillac would like to introduce themselves to the business community\, offer a look into their business and provide networking opportunities for fellow members.\n\n\n\nVIP test drives for those Chamber Members who want to experience the products.\n\n \n\nExtending an offer to local businesses to utilize Crestmont's Service Department. For all local businesses\, they will offer a courtesy discount of 15% off services (up to $1\,000) and create an experience like no other. Their Service Department will exclusively offer fast and convenient shuttle transportation to and from your home or work with a scheduled appointment.  They will also wash your vehicle before it is delivered back to you and will perform a multi-point inspection to determine if any other repair work is required. They service all makes and models. You can visit the service specials page for detailed offers.\n\n\n\nPlease join us for light refreshments\, appetizers\, great networking and beautiful cars on Tuesday\, June 26th!
X-ALT-DESC;FMTTYPE=text/html:<div style="text-align: center\;"><strong><span style="color:#660033\;"><span style="font-size:18px\;">SPECIAL NETWORKING EVENT!</span></span></strong></div>\n<br />\n<span style="color:black\;">Join us for an open-house networking event on June 26th at Crestmont Cadillac!<br />\n<br />\nCrestmont Cadillac would like to introduce themselves to the business community\, offer a look into their business and provide networking opportunities for fellow members.<br />\n<br />\nVIP test drives for those&nbsp\;Chamber&nbsp\;Members who want to experience the products.</span><br />\n&nbsp\;<br />\n<span style="color:black\;">Extending an offer to local businesses to utilize Crestmont&#39\;s Service Department. For all local businesses\, they will offer a courtesy discount of 15% off services (up to $1\,000) and create an experience like no other. Their Service Department will exclusively offer fast and convenient shuttle transportation to and from your home or work with a scheduled appointment.&nbsp\; They will also wash your vehicle before it is delivered back to you and will perform a multi-point inspection to determine if any other repair work is required. They service all makes and models. You can visit the service specials page for detailed offers.</span><br />\n<br />\n<span style="color:#000000\;">Please join us for light refreshm</span><span style="color:black\;">ents\, appetizers\, great networking and beautiful cars on Tuesday\, June 26<sup>th</sup>! </span><br />\n&nbsp\;
LOCATION:Crestmont Cadillac 26000 Chagrin Boulevard Beachwood\, OH 44122
UID:e.368.6960
SEQUENCE:3
DTSTAMP:20260420T202522Z
URL:https://public.beachwood.org/events/details/networking-event-crestmont-cadillac-6960
END:VEVENT

END:VCALENDAR
