BEGIN:VCALENDAR
VERSION:2.0
PRODID:-//ChamberMaster//Event Calendar 2.0//EN
METHOD:PUBLISH
X-PUBLISHED-TTL:P3D
REFRESH-INTERVAL:P3D
CALSCALE:GREGORIAN
BEGIN:VEVENT
DTSTART:20081015T210000Z
DTEND:20081015T230000Z
X-MICROSOFT-CDO-ALLDAYEVENT:FALSE
SUMMARY:NETWORKING AFTER FIVE @ WEISS FURS
DESCRIPTION:We have a special Networking After Five for you this month.  Please join us at Weiss Furs at Beachwood Place for an evening of informal networking\, hors d'oeuvres\, beverages\, and more.Remember "networking" is not always who you know but who knows you.  Becoming well acquainted with other Chamber members will enable them to use your product/service if needed and/or to recommend you to friends\, relatives\, colleagues should one of them need your service. Networking is ongoing.We look forward to seeing you on the 15th.In the meantime\, please RSVP so that we can provide Weiss Furs with as accurate a count as possible.  And\, as always\, walk-ins are welcome.Cost: Members--FREE\; Nonmembers--$10 (payable at the door)
X-ALT-DESC;FMTTYPE=text/html:<p>We have a special Networking After Five for you this month.&nbsp\; Please join us at Weiss Furs at Beachwood Place for an evening of informal networking\, hors d'oeuvres\, beverages\, and more.</p><p>Remember &quot\;networking&quot\; is not always who you know but who knows you.&nbsp\; Becoming well acquainted with other Chamber members will enable them to use your product/service if needed and/or to recommend you to friends\, relatives\, colleagues should one of them need your service.&nbsp\;Networking is ongoing.</p><p>We look forward to seeing you on the 15th.</p><p>In the meantime\, please RSVP so that we can provide Weiss Furs with as accurate a count as possible.&nbsp\; And\, as always\, walk-ins are welcome.</p><p>Cost: Members--FREE\; Nonmembers--$10 (payable at the door)</p>
LOCATION:Weiss FursBeachwood Place MallUpper Level
UID:e.368.91
SEQUENCE:3
DTSTAMP:20260424T021235Z
URL:https://public.beachwood.org/events/details/networking-after-five-weiss-furs-10-15-2008-91
END:VEVENT

END:VCALENDAR
