BEGIN:VCALENDAR
VERSION:2.0
PRODID:-//ChamberMaster//Event Calendar 2.0//EN
METHOD:PUBLISH
X-PUBLISHED-TTL:P3D
REFRESH-INTERVAL:P3D
CALSCALE:GREGORIAN
BEGIN:VEVENT
DTSTART:20090318T210000Z
DTEND:20090318T230000Z
X-MICROSOFT-CDO-ALLDAYEVENT:FALSE
SUMMARY:NETWORKING AFTER FIVE - MARCH
DESCRIPTION:Maggiano's Little Italy will be hosting our Wednesday\, March 18th\,  Networking After Five (NAF) event from 5:00-7:00 PM.We always receive a very warm welcome at Maggiano's\, which has hosted Chamber luncheons\, and the food is always excellent.This event is open to Chamber members\, their co-workers\, friends\, and prospective members.  NAF events provide an opportunity for individuals to become acquainted in an informal setting.  To paraphrase the Goddess of Networking\, Wendy Schwarz\, it's not always who you know but who knows you. The better acquainted you are with other members\, the better the chance that if they or someone whom they know needs your service\, that you name will come to mind. Please RSVP via the website or call the Chamber at 216-831-0003 or  email mail@beachwood.org for more information.Cost: Members -- FREE\; Nonmembers -- $10.We look forward to greeting you on the 18th!
X-ALT-DESC;FMTTYPE=text/html:<p>Maggiano's Little Italy will be hosting our Wednesday\,&nbsp\;March 18th\,&nbsp\; Networking After Five (NAF) event from 5:00-7:00 PM.</p><p>We always receive a very warm welcome at Maggiano's\, which has hosted Chamber luncheons\, and the food is always excellent.</p><p>This event is open to Chamber members\, their co-workers\, friends\, and prospective members.&nbsp\;&nbsp\;NAF&nbsp\;events provide an opportunity for individuals to become acquainted in an informal setting.&nbsp\; To paraphrase the Goddess of Networking\, Wendy Schwarz\, it's&nbsp\;not always who you know but who knows you.&nbsp\;The better acquainted you are with other members\, the better the chance that if they or someone whom they know needs your service\, that you name will come to mind.&nbsp\;</p><p>Please RSVP via the website or call the Chamber at 216-831-0003 or &nbsp\;email <a href="mailto:mail@beachwood.org">mail@beachwood.org</a>&nbsp\;for more information.</p><p>Cost: Members -- FREE\; Nonmembers -- $10.</p><p>We look forward to greeting you on the 18th!</p>
LOCATION:Maggiano's Little ItalyBeachwood PlaceBy Cedar Road mall entrance
UID:e.368.164
SEQUENCE:3
DTSTAMP:20260423T201729Z
URL:https://public.beachwood.org/events/details/networking-after-five-march-03-18-2009-164
END:VEVENT

END:VCALENDAR
