BEGIN:VCALENDAR
VERSION:2.0
PRODID:-//ChamberMaster//Event Calendar 2.0//EN
METHOD:PUBLISH
X-PUBLISHED-TTL:P3D
REFRESH-INTERVAL:P3D
CALSCALE:GREGORIAN
BEGIN:VEVENT
DTSTART:20090121T220000Z
DTEND:20090122T000000Z
X-MICROSOFT-CDO-ALLDAYEVENT:FALSE
SUMMARY:NETWORKING AFTER FIVE-JANUARY
DESCRIPTION:Our Networking chairs have been busy planning the Chamber's 2009 Networking After Five program.To start the year\,  our Wednesday\, January 21st\, 5-7 PM\, event will be hosted by ...StoneWater Golf Club \n(Sorry\, no opportunity to try out he course. It's closed for the season)\n1 Club Drive\nHighland Heights\n(Map attached or see directions below)Are you aware that Stonewater hosts Friday night parties at its StoneWater Grill with guest performers such as Rick and Sharona (the best of Frank Sinatra\, Peggy Lee\, Bobby Darin & more)\, Blue Eyed Soul\, and others?Join us on the 21st to sample some of the Grill's taste-tempting items. The Grill's Executive Chef\, Jeremy Millgan (formerly of Walden) is know for his signature fare\, which blends inspiration from classic French to Middle Eastern\, Thai and Indian\, along with all-American favorites.  We can't promise what will be served\, but the hors d'oeuvres will be tempting and the networking enjoyable.RSVP online or by emailing mail@beachwood.org.Cost: Members--FREE\, nonmembers--$10.See you on the 21st!Directions:\nFrom I-271: Exit at Wilson Mills. Turn West onto Wilson Mills Road and travel approx. 1/4 mile to Miner Road (Firststar Bank on corner). Turn right onto Minor Road and travel to 2nd traffic light. Aberdeeen Community will be on your left. Turn left into Aberdeen and the entrance to StoneWater will be approx. 1/2 mile on your right at Club Drive.From I-90: Exit at Bishop/Wickliffe (exit 187). Turn South onto Bishop Road and travel approx. 4 miles (you will pass County Airport on the right). Aberdeen Community will be on your left. Turn left into Aberdeen and the entrace to StoneWter will be approx. 7/10 mile on your left at Club Drive.
X-ALT-DESC;FMTTYPE=text/html:<p><font color="#333399">Our Networking chairs have been busy planning the Chamber&rsquo\;s 2009 Networking After Five program.</font></p><p><font color="#333399">To start the year\,&nbsp\; our <strong><font size="2">Wednesday\, January 21st\, 5-7 PM</font></strong>\, event will be hosted by ...</font></p><p><font color="#333399"><font size="3"><strong>StoneWater Golf Club</strong>&nbsp\;<br /></font><font size="1">(Sorry\, no opportunity to try out he course. It&rsquo\;s&nbsp\;closed for the season)<br /></font>1 Club Drive<br />Highland Heights<br />(Map attached or see directions below)</font></p><p><font color="#333399">Are you aware that Stonewater hosts Friday night parties at its StoneWater Grill with guest performers such as Rick and Sharona (the best of Frank Sinatra\, Peggy Lee\, Bobby Darin &amp\; more)\, Blue Eyed Soul\, and others?</font></p><p><font color="#333399">Join us on the 21st to sample some of the Grill&rsquo\;s taste-tempting items. The Grill&rsquo\;s Executive Chef\, Jeremy Millgan (formerly of Walden) is know for his signature fare\, which blends inspiration from classic French to Middle Eastern\, Thai and Indian\, along with all-American favorites.&nbsp\; We can&rsquo\;t promise what will be served\, but the hors d&rsquo\;oeuvres will be tempting and the networking enjoyable.</font></p><p><font color="#333399">RSVP online or by emailing </font><a href="mailto:mail@beachwood.org"><font color="#333399">mail@beachwood.org</font></a><font color="#333399">.</font></p><p><font color="#333399">Cost: Members--FREE\, nonmembers--$10.</font></p><p><font color="#333399">See you on the 21st!</font></p><p><font color="#333399"><strong><u>Directions:<br /></u>From I-271</strong>: Exit at Wilson Mills. Turn West onto Wilson Mills Road and travel approx. 1/4 mile to Miner Road (Firststar Bank on corner). Turn right onto Minor Road and travel to 2nd traffic light. Aberdeeen Community will be on your left. Turn left into Aberdeen and the entrance to StoneWater will be approx. 1/2 mile on your right at Club Drive.</font></p><p><font color="#333399"><strong>From I-90</strong>: Exit at Bishop/Wickliffe (exit 187). Turn South onto Bishop Road and travel approx. 4 miles (you will pass County Airport on the right). Aberdeen Community will be on your left. Turn left into Aberdeen and the entrace to StoneWter will be approx. 7/10 mile on your left at Club Drive.</font></p>
LOCATION:StoneWater Golf Club1 Club DriveHighland Heights(Aberdeen Community)
UID:e.368.134
SEQUENCE:3
DTSTAMP:20260423T223251Z
URL:https://public.beachwood.org/events/details/networking-after-five-january-01-21-2009-134
END:VEVENT

END:VCALENDAR
