BEGIN:VCALENDAR
VERSION:2.0
PRODID:-//ChamberMaster//Event Calendar 2.0//EN
METHOD:PUBLISH
X-PUBLISHED-TTL:P3D
REFRESH-INTERVAL:P3D
CALSCALE:GREGORIAN
BEGIN:VEVENT
DTSTART:20081105T220000Z
DTEND:20081106T000000Z
X-MICROSOFT-CDO-ALLDAYEVENT:FALSE
SUMMARY:NETWORKING AFTER FIVE @ HONEYBAKED HAM-SOLON
DESCRIPTION:This month's Networking After Five will be on WEDNESDAY\, November 5th\, 5-7 PM\, at HoneyBaked Ham and Cafe-Solon.  HoneyBaked is easy to get to (see map) and is in the Giant Eagle shopping center at 91& Aurora Road.  You can either enter the shopping center by turning left onto Aurora Road (HoneyBaked is at the far end closer to 306) or turn left at the 1st light after Aurora Road.Dennis Demshar is planning an exceptional  event for attendees.  Look for samplings of the cafe's offereings and special drawings.RSVPs are greatly appreciated. Walk-ins are always welcome.We look forward to greeting Chamber members and their co-workers and friends on the 5th!
X-ALT-DESC;FMTTYPE=text/html:<p>This month&rsquo\;s Networking After Five will be on WEDNESDAY\, November 5th\, 5-7 PM\, at HoneyBaked Ham and Cafe-Solon.&nbsp\; HoneyBaked is easy to get to (see map) and is in the Giant Eagle shopping center at 91&amp\; Aurora Road.&nbsp\; You can either enter the shopping center by turning left onto Aurora Road (HoneyBaked is at the far end closer to 306) or turn left at the 1st light after Aurora Road.</p><p>Dennis Demshar is planning an exceptional&nbsp\; event for attendees.&nbsp\; Look for samplings of the cafe&rsquo\;s offereings and&nbsp\;special drawings.</p><p>RSVPs are greatly appreciated. Walk-ins are always welcome.</p><p>We look forward to greeting Chamber members and their co-workers and friends on the 5th!</p>
LOCATION:HoneyBaked Ham & Cafe34234 Aurora RoadSolon
UID:e.368.109
SEQUENCE:3
DTSTAMP:20260424T011055Z
URL:https://public.beachwood.org/events/details/networking-after-five-honeybaked-ham-solon-11-05-2008-109
END:VEVENT

END:VCALENDAR
