BEGIN:VCALENDAR
VERSION:2.0
PRODID:-//ChamberMaster//Event Calendar 2.0//EN
METHOD:PUBLISH
X-PUBLISHED-TTL:P3D
REFRESH-INTERVAL:P3D
CALSCALE:GREGORIAN
BEGIN:VEVENT
DTSTART:20080616T210000Z
DTEND:20080616T230000Z
X-MICROSOFT-CDO-ALLDAYEVENT:FALSE
SUMMARY:Networking After Five-Homewood Suites
DESCRIPTION:The newest hotel in Beachwood is Homewood Suites by Hilton\, which held its ribbon cutting on Thursday\, June 5th. Chamber members have an opportunity to view this new facility while enjoying hors d'oeuvres and beverages on Monday\, June 16th\, 5-7 PM. Homewood Suites by Hilton is located off on Science Park Drive on Central Parkway just opposite Ly's Thai Cuisine. We look forward to seeing you on the 16th at Beachwood's newest extended stay facility. Please RSVP online\, by emailing mail@beachwood.org or by calling the Chamber at 216-831-0003. See you on the 16th!
X-ALT-DESC;FMTTYPE=text/html:<div><font color="#333399">The newest hotel in Beachwood is Homewood Suites by Hilton\, which held its ribbon cutting on Thursday\, June 5th.</font></div><div><font color="#333399">&nbsp\;</font></div><div><font color="#333399">Chamber members have an opportunity to view this new facility while enjoying hors d'oeuvres and beverages on Monday\, June 16th\, 5-7 PM.</font></div><div><font color="#333399">&nbsp\;</font></div><div><font color="#333399">Homewood Suites by Hilton is located off on Science Park Drive on Central Parkway just opposite Ly's Thai Cuisine.</font></div><div><font color="#333399">&nbsp\;</font></div><div><font color="#333399">We look forward to seeing you on the 16th at Beachwood's newest extended stay facility.</font></div><div><font color="#333399">&nbsp\;</font></div><div><font color="#333399">Please RSVP online\, by emailing </font><a href="mailto:mail@beachwood.org"><font color="#333399">mail@beachwood.org</font></a><font color="#333399"> or by calling the Chamber at 216-831-0003.</font></div><div><font color="#333399">&nbsp\;</font></div><div><font color="#333399">See you on the 16th!</font></div>
LOCATION:Homewood Suites by Hilton25725 Central ParkwayBeachwood
UID:e.368.39
SEQUENCE:3
DTSTAMP:20260424T071819Z
URL:https://public.beachwood.org/events/details/networking-after-five-homewood-suites-06-16-2008-39
END:VEVENT

END:VCALENDAR
