BEGIN:VCALENDAR
VERSION:2.0
PRODID:-//ChamberMaster//Event Calendar 2.0//EN
METHOD:PUBLISH
X-PUBLISHED-TTL:P3D
REFRESH-INTERVAL:P3D
CALSCALE:GREGORIAN
BEGIN:VEVENT
DTSTART;VALUE=DATE:20090218
DTEND;VALUE=DATE:20090219
TRANSP:TRANSPARENT
X-MICROSOFT-CDO-ALLDAYEVENT:TRUE
SUMMARY:NETWORKING AFTER FIVE - FEB 2009
DESCRIPTION:Join the Chamber for information networking on Wednesday\, February 18th\, from 5-7 PM atTodd Associates\n23825 Commerce Park\nIn BeachwoodTodd Associates has recently renovated its office space.  The event will be held in the "Rathskeller" AKA the Employee Lounge.  And what a lounge!  It houses a bar\, fireplace\, 3 flat-screen TVs\, and\, of course\, places to sit. And there will be finger food along with a beverages\, inclduing soft drinks\, wine\, and beer.Look forward to informal networking while enjoying this marvelous atmosphere.Online RSVPs greatly appreciated.  Or you may email mail@beachwood.org or call the Chamber at 216-831-0003.  Cost: Members--Free\; Nonmembers--$10
X-ALT-DESC;FMTTYPE=text/html:<p><font color="#333399" size="2">Join the Chamber for information networking on Wednesday\, February 18th\, from 5-7 PM&nbsp\;at</font></p><p><font color="#333399" size="3">Todd Associates<br />23825 Commerce Park<br />In Beachwood</font></p><p><font color="#333399" size="2">Todd Associates has recently renovated its office space.&nbsp\;&nbsp\;The event will be held in the &quot\;Rathskeller&quot\; AKA the Employee Lounge.&nbsp\; And what a lounge!&nbsp\;&nbsp\;It houses a bar\, fireplace\, 3 flat-screen TVs\, and\, of course\,&nbsp\;places to sit.&nbsp\;</font></p><p><font color="#333399" size="2">And there will be finger food along with a beverages\, inclduing soft drinks\, wine\, and beer.</font></p><p><font color="#333399" size="2">Look forward to informal networking while enjoying this marvelous atmosphere.</font></p><p><font color="#333399" size="2">Online RSVPs greatly appreciated.&nbsp\; Or you may email </font><a href="mailto:mail@beachwood.org"><font color="#333399" size="2">mail@beachwood.org</font></a><font color="#333399" size="2"> or call the Chamber at 216-831-0003.&nbsp\; </font></p><p><font color="#333399" size="2">Cost: Members--Free\; Nonmembers--$10</font></p>
LOCATION:Todd Associates23825 Commerce Park RdSuite ABeachwood
UID:e.368.144
SEQUENCE:3
DTSTAMP:20260423T223317Z
URL:https://public.beachwood.org/events/details/networking-after-five-feb-2009-02-18-2009-144
END:VEVENT

END:VCALENDAR
