BEGIN:VCALENDAR
VERSION:2.0
PRODID:-//ChamberMaster//Event Calendar 2.0//EN
METHOD:PUBLISH
X-PUBLISHED-TTL:P3D
REFRESH-INTERVAL:P3D
CALSCALE:GREGORIAN
BEGIN:VEVENT
DTSTART:20080813T210000Z
DTEND:20080813T230000Z
X-MICROSOFT-CDO-ALLDAYEVENT:FALSE
SUMMARY:NETWORKING AFTER FIVE - AUGUST
DESCRIPTION:Join Chamber members and their guests for our August 13th Networking After Five event at the Hilton Cleveland East/Beachwood. We've enjoyed luncheons and annual dinners at the Hilton\, which also hosts our Business Shows\, now we have an opportunity to enjoy informal networking.RSVPs are very much appreciated but not required.Cost:  Free for members\, $10 for nonmembers.
X-ALT-DESC;FMTTYPE=text/html:<p>Join Chamber members and their guests for our August 13th Networking After Five event at the Hilton Cleveland East/Beachwood.&nbsp\;</p><p>We've enjoyed luncheons and annual dinners at the Hilton\, which&nbsp\;also hosts our Business Shows\,&nbsp\;now we have an opportunity to enjoy&nbsp\;informal&nbsp\;networking.</p><p>RSVPs are&nbsp\;very much appreciated but not required.</p><p>Cost:&nbsp\;&nbsp\;Free for members\, $10 for nonmembers.&nbsp\;</p>
LOCATION:Hilton Cleveland East/Beachwood3663 Park East DriveBeachwood
UID:e.368.65
SEQUENCE:3
DTSTAMP:20260424T054833Z
URL:https://public.beachwood.org/events/details/networking-after-five-august-08-13-2008-65
END:VEVENT

END:VCALENDAR
