BEGIN:VCALENDAR
VERSION:2.0
PRODID:-//ChamberMaster//Event Calendar 2.0//EN
METHOD:PUBLISH
X-PUBLISHED-TTL:P3D
REFRESH-INTERVAL:P3D
CALSCALE:GREGORIAN
BEGIN:VEVENT
DTSTART:20080721T210000Z
DTEND:20080721T230000Z
X-MICROSOFT-CDO-ALLDAYEVENT:FALSE
SUMMARY:NETWORKING AFTER FIVE at PALADAR
DESCRIPTION:Paladar\, located at Eton in Woodmere\, is one of the areas newer restaurants will host this month's Networking After Five on Monday\, July 21st\, from 5-7 PM.Paladar means "palate" throughout the Spanish-speaking countries and also refers to home-kitchen restaurants in Cuba and select parts of Latin America.  Join us on the 21st to experience Nuevo Latino cuisine.  Hors d'oeuvres provided. Cash bar.Cost: Free to members\, $10 nonmembers.RSVP: Very much appreciated. Walk-ins always welcome.
X-ALT-DESC;FMTTYPE=text/html:<p><font color="#333399"><strong>Paladar</strong>\, located at Eton in Woodmere\, is one of the areas newer restaurants will host this month&rsquo\;s Networking After Five on Monday\, July 21st\, from 5-7 PM.</font></p><p><a href="http://www.paladarlatinkitchen.com"><font color="#333399"><strong>Paladar</strong> </font></a><font color="#333399">means &quot\;palate&quot\; throughout the Spanish-speaking countries and also refers to home-kitchen restaurants in Cuba and select parts of Latin America.&nbsp\; Join us on the 21st to experience&nbsp\;Nuevo Latino cuisine.&nbsp\;&nbsp\;Hors d&rsquo\;oeuvres provided. Cash bar.</font></p><p><font color="#333399">Cost:&nbsp\;Free to members\, $10&nbsp\;nonmembers.</font></p><p><font color="#333399">RSVP: Very much appreciated. Walk-ins always welcome.&nbsp\;</font></p>
LOCATION:Paladar at Eton28601 Chagrin Blvd.In Woodmere
UID:e.368.57
SEQUENCE:3
DTSTAMP:20260424T060235Z
URL:https://public.beachwood.org/events/details/networking-after-five-at-paladar-07-21-2008-57
END:VEVENT

END:VCALENDAR
