BEGIN:VCALENDAR
VERSION:2.0
PRODID:-//ChamberMaster//Event Calendar 2.0//EN
METHOD:PUBLISH
X-PUBLISHED-TTL:P3D
REFRESH-INTERVAL:P3D
CALSCALE:GREGORIAN
BEGIN:VEVENT
DTSTART:20080519T210000Z
DTEND:20080519T230000Z
X-MICROSOFT-CDO-ALLDAYEVENT:FALSE
SUMMARY:Networking After Five at Courtyard by Marriott
DESCRIPTION:Do you have overnight guests?  Planning a wedding?  Bar Mitzvah?  Birthday party?  Where do your guests stay?We would like to introduce you to several members of the Chamber that can be of assistance.  Our first lodging member that will host a Networking After Five event is Courtyard by Marriott on Orange Place.Please join us on Monday\, May 19th\, for Networking After Five.  We promise you a very pleasant experience\, great catering\, and a chance to see what the hotel can provide for you and your guests.  And don't forget that we will be networking with other members and potential new members.Our Networking After Five events are always well attended\, the food is always great\, and the atmosphere warm and welcoming.Please RSVP for this event either on line\, by emailing mail@beachwood.org or by calling the Chamber at 216-831-0003.No matter how you register\, or if you just happen to be free that day and show up\, you will be warmly welcomed!
X-ALT-DESC;FMTTYPE=text/html:<p>Do you have overnight guests?&nbsp\; Planning a wedding?&nbsp\; Bar Mitzvah?&nbsp\; Birthday party?&nbsp\; Where do your guests stay?</p><p>We&nbsp\;would like to introduce you to several members of the Chamber that can be of assistance.&nbsp\;&nbsp\;Our first lodging member that will host a Networking After Five event is <strong><font color="#666633"><em><a href="http://www.marriott.com/clebw">Courtyard by Marriott</a></em></font></strong> on Orange Place.</p><p>Please join us on Monday\, May 19th\, for&nbsp\;Networking After Five.&nbsp\; We promise you a very pleasant experience\, great catering\, and a chance to see what the hotel can provide for you and your guests.&nbsp\; And don&rsquo\;t forget that we will be networking with other members and potential new members.</p><p>Our Networking After Five events are always well attended\, the food is always great\, and the atmosphere warm and welcoming.</p><p>Please RSVP for this event either on line\, by emailing <a href="mailto:mail@beachwood.org">mail@beachwood.org</a> or by calling the Chamber at 216-831-0003.</p><p>No matter how you register\, or if you just happen to be free that day and show up\, you&nbsp\;will be warmly welcomed!&nbsp\;</p>
LOCATION:Courtyard by Marriott3695 Orange PlaceOrange Village
UID:e.368.26
SEQUENCE:3
DTSTAMP:20260424T084703Z
URL:https://public.beachwood.org/events/details/networking-after-five-at-courtyard-by-marriott-05-19-2008-26
END:VEVENT

END:VCALENDAR
