BEGIN:VCALENDAR
VERSION:2.0
PRODID:-//ChamberMaster//Event Calendar 2.0//EN
METHOD:PUBLISH
X-PUBLISHED-TTL:P3D
REFRESH-INTERVAL:P3D
CALSCALE:GREGORIAN
BEGIN:VEVENT
DTSTART:20081210T220000Z
DTEND:20081211T000000Z
X-MICROSOFT-CDO-ALLDAYEVENT:FALSE
SUMMARY:NETWORKING AFTER FIVE AT CLEVELAND CLINIC-BEACHWOOD
DESCRIPTION:NETWORKING AFTER FIVEWednesday\, December 10th -- 5-7 PMat Cleveland Clinic Family Heath Center\n26900 Cedar Road in BeachwoodAnother program that is becoming an annual event is our yearly Networking After Five at the Clinic facility on Cedar Road. For those of you who have participated in the past\, the food is excellent ... the music is soft and mellow\, perfect for networking ... the ambiance in the Atrium is exceptional ... and a wonderful time is had by all! We ask that you RSVP for this event to ensure sufficient refreshments. And\, as usual\, walk-ins will be warmly welcomed. Cost: FREE for Chamber members\; $10 for nonmembers.
X-ALT-DESC;FMTTYPE=text/html:<p align="center"><font color="#006600" size="3"><strong>NETWORKING AFTER FIVE</strong></font></p><p align="center"><font color="#006600" size="3"><strong>Wednesday\, December 10th -- 5-7 PM</strong></font></p><p align="center"><font color="#006600"><strong><font size="3">at Cleveland Clinic Family Heath Center<br /></font></strong></font><font color="#006600"><strong>26900 Cedar Road in Beachwood</strong></font></p><div><font color="#006600">Another program that is becoming an annual event is our yearly Networking After Five at the Clinic facility on Cedar Road. For those of you who have participated in the past\, the food is excellent ...&nbsp\;the music is soft and mellow\, perfect for networking ...&nbsp\;the ambiance in the Atrium&nbsp\;is exceptional ... and&nbsp\;a wonderful time is had by all!</font></div><div>&nbsp\;</div><div><font color="#006600">We ask that you RSVP for this event to ensure sufficient refreshments. And\, as usual\, walk-ins will be warmly welcomed.</font></div><div>&nbsp\;</div><div><font color="#006600">Cost: FREE for Chamber members\; $10 for nonmembers.</font></div>
LOCATION:Cleveland Clinic Family Health Center26900 Cedar RoadBeachwood
UID:e.368.120
SEQUENCE:3
DTSTAMP:20260423T234944Z
URL:https://public.beachwood.org/events/details/networking-after-five-at-cleveland-clinic-beachwood-12-10-2008-120
END:VEVENT

END:VCALENDAR
