BEGIN:VCALENDAR
VERSION:2.0
PRODID:-//ChamberMaster//Event Calendar 2.0//EN
METHOD:PUBLISH
X-PUBLISHED-TTL:P3D
REFRESH-INTERVAL:P3D
CALSCALE:GREGORIAN
BEGIN:VEVENT
DTSTART:20080908T210000Z
DTEND:20080908T230000Z
X-MICROSOFT-CDO-ALLDAYEVENT:FALSE
SUMMARY:NETWORKING AFTER FIVE 9/8/08
DESCRIPTION:Join the Chamber and our host -- UBS -- for our informal\, monthly Networking After Five Event.  Join us for great networking\, food\, drinks and door prizes. NAF is a great way to get to know other Chamber members and to grow your business.  Networking is an ongoing process.  You never know who you'll speak with.  That person may not need your service\, but may have a friend\, relative\, colleague who might.  And who will they recommend:  the person whom they've met and gotten to know well. So\, we look forward to seeing you on Monday\, September 8th at UBS! Members--FREE\; Nonmembers: $10 RSVPs greatly appreciated as it allows our host locations to have sufficient refreshments for attendees.  And\, remember\, walk-ins are always welcome.
X-ALT-DESC;FMTTYPE=text/html:<div><font color="#333399">Join the Chamber and our host -- UBS -- for our informal\, monthly Networking After Five Event.&nbsp\; Join us for great networking\, food\, drinks and door prizes.</font></div><div>&nbsp\;</div><div><font color="#333399">NAF is a great way to get to know other Chamber members and to grow your business.&nbsp\; Networking is an ongoing process.&nbsp\; You never know who you'll speak with.&nbsp\; That person may not need your service\, but may have a friend\, relative\, colleague who might.&nbsp\; And who will they recommend:&nbsp\; the person whom they've met and gotten to know well.</font></div><div>&nbsp\;</div><div><font color="#333399">So\, we look forward to seeing you on Monday\, September 8th at UBS!</font></div><div>&nbsp\;</div><div><font color="#333399">Members--FREE\; Nonmembers: $10</font></div><div>&nbsp\;</div><div><font color="#333399">RSVPs greatly appreciated as it allows our host locations to have sufficient refreshments for attendees.&nbsp\; And\, remember\, walk-ins are always welcome.</font></div>
LOCATION:2000 Auburn Drive Beachwood\, OH 44122
UID:e.368.76
SEQUENCE:3
DTSTAMP:20260424T032002Z
URL:https://public.beachwood.org/events/details/networking-after-five-9-8-08-09-08-2008-76
END:VEVENT

END:VCALENDAR
