BEGIN:VCALENDAR
VERSION:2.0
PRODID:-//ChamberMaster//Event Calendar 2.0//EN
METHOD:PUBLISH
X-PUBLISHED-TTL:P3D
REFRESH-INTERVAL:P3D
CALSCALE:GREGORIAN
BEGIN:VEVENT
DTSTART:20080414T210000Z
DTEND:20080414T230000Z
X-MICROSOFT-CDO-ALLDAYEVENT:FALSE
SUMMARY:Networking After Five
DESCRIPTION:NETWORKING AFTER FIVE AT AUDI-WILLOUGHBY We have a very special networking event for you this month.  Join us at Audi-Willoughby on Monday\, April 14th\, for Networking After Five. This promises to be fun\, catered event. Not sure how to get there.  It sounds far\, but it isn't: Audi Willoughby is on Mentor Avenue (Rte 20 & OH 306) between I-90 and Rte 2.  From Beachwood\, take I-271 North to I-90 East.  Exit at OH 306 and turn north (left) toward Mentor/Kirtland (Broadmoor Rd/OH 306) and left again at Mentor Ave/US 20. Audi is a division of Stoddard Imported Cars founded in June 1957 by Chuck Stoddard\, a 1952 MIT graduate in automotive engineering. Originally located in a stillborn Tucker dealership building\, it was known as "fix anything foreign" car repair and dealership.  The current dealership has expanded to 45\,000 square feet over the years. Stoddard also purchased all Porsche 365 parts from around the world and a full restoration program stared at the dealership.  365s have been restored at the dealership from as far away as South Africa and Europe. This will be a fun and interesting evening.  We look forward to having you join us.  Remember when you RSVP\, we assist our host business in having ample refreshments available.  So ... Reservations appreciate!  Walk-ins welcome!
X-ALT-DESC;FMTTYPE=text/html:<div align="center"><span style="font-weight: bold"><div align="center"><font color="#993300" size="4">NETWORKING AFTER FIVE AT AUDI-WILLOUGHBY</font></div><div align="center">&nbsp\;</div></span></div><div><font color="#333399" size="2">We have a very special networking event for you this month.&nbsp\; Join us at Audi-Willoughby&nbsp\;on Monday\, April 14th\, for Networking After Five.&nbsp\;This promises to be fun\, catered event.</font></div><div>&nbsp\;</div><div><font color="#333399" size="2">Not sure how to get there.&nbsp\; It sounds far\, but it isn&rsquo\;t:&nbsp\;Audi Willoughby is on&nbsp\;Mentor Avenue (Rte 20 &amp\; OH 306)&nbsp\;between I-90 and Rte 2.&nbsp\; From Beachwood\, take I-271 North&nbsp\;to&nbsp\;I-90 East.&nbsp\; Exit at OH 306 and turn north (left) toward Mentor/Kirtland (Broadmoor Rd/OH 306) and&nbsp\;left again at Mentor Ave/US 20.</font></div><div>&nbsp\;</div><div><font color="#333399" size="2">Audi is a division of Stoddard Imported Cars founded in June 1957 by Chuck Stoddard\, a 1952 MIT graduate in automotive engineering. Originally located in a stillborn Tucker dealership building\, it was known as &quot\;fix anything foreign&quot\; car repair and&nbsp\;dealership.&nbsp\; The current dealership has expanded to 45\,000 square feet over the years. Stoddard also purchased all Porsche 365 parts from around the world and a full restoration program stared at the dealership.&nbsp\; 365s have been restored at the dealership from as far away as South Africa and Europe.</font></div><div>&nbsp\;</div><div><font color="#333399" size="2">This will be a fun and interesting evening.&nbsp\; We look forward to having you join us.&nbsp\; Remember when you RSVP\, we assist our host business in having ample refreshments available.&nbsp\;</font></div><div>&nbsp\;</div><div><font color="#333399" size="2"><em>So ... Reservations appreciate!&nbsp\; Walk-ins&nbsp\;welcome!&nbsp\;</em></font></div>
LOCATION:Audi-Willoughby38845 Mentor AvenueWilloughby
UID:e.368.3
SEQUENCE:3
DTSTAMP:20260424T113403Z
URL:https://public.beachwood.org/events/details/networking-after-five-04-14-2008-3
END:VEVENT

END:VCALENDAR
