BEGIN:VCALENDAR
VERSION:2.0
PRODID:-//ChamberMaster//Event Calendar 2.0//EN
METHOD:PUBLISH
X-PUBLISHED-TTL:P3D
REFRESH-INTERVAL:P3D
CALSCALE:GREGORIAN
BEGIN:VEVENT
DTSTART:20150204T220000Z
DTEND:20150204T233000Z
X-MICROSOFT-CDO-ALLDAYEVENT:FALSE
SUMMARY:Networking After Five
DESCRIPTION:February Networking After Five\n\n\n\nJoin us for our monthly informal Networking After Five event\, at Valenti's Ristorante.\n\n\n\nLight refreshments will be served
X-ALT-DESC;FMTTYPE=text/html:February Networking After Five<br />\n<br />\nJoin us for our monthly informal Networking After Five event\, at Valenti&#39\;s Ristorante.<br />\n<br />\nLight refreshments will be served
LOCATION:Valenti's Ristorante 3365 Richmond Road Beachwood\, OH 44122
UID:e.368.1273
SEQUENCE:3
DTSTAMP:20260419T185700Z
URL:https://public.beachwood.org/events/details/networking-after-five-02-04-2015-1273
END:VEVENT

END:VCALENDAR
