BEGIN:VCALENDAR
VERSION:2.0
PRODID:-//ChamberMaster//Event Calendar 2.0//EN
METHOD:PUBLISH
X-PUBLISHED-TTL:P3D
REFRESH-INTERVAL:P3D
CALSCALE:GREGORIAN
BEGIN:VEVENT
DTSTART;VALUE=DATE:20090423
DTEND;VALUE=DATE:20090424
TRANSP:TRANSPARENT
X-MICROSOFT-CDO-ALLDAYEVENT:TRUE
SUMMARY:National Take Your Sons & Daughters to Work Day: McCormick & Schmick's offer
DESCRIPTION:In honor of National Take Your Sons & Daughters To Work Day\, McCormick & Schmick's has come up with a couple of promotions to help make this day as memorable as possible for all of those "extra helpers" at the office this Thursday. Any parent who comes in and orders any entr e off of our lunch menu\, their child will receive any entr e off of our children's menu for free.  In addition any child who comes in will receive a "Junior Preferred Guest" Card\, which will entitle them to get a free signature ice cream sundae any time they come in for lunch or dinner for a full year!!!
X-ALT-DESC;FMTTYPE=text/html:<p><font size="2">In honor of National Take Your Sons &amp\; Daughters To Work Day\, McCormick &amp\; Schmick's has come up with a couple of promotions to help make this day as memorable as possible for all of those &ldquo\;extra helpers&rdquo\; at the office this Thursday.&nbsp\;</font></p><p><font size="2">Any parent who comes in and orders any entr&eacute\;e off of our lunch menu\, their child will receive any entr&eacute\;e off of our children&rsquo\;s menu for free.&nbsp\; In addition any child who comes in will receive a &ldquo\;Junior Preferred Guest&rdquo\; Card\, which will entitle them to get a free signature ice cream sundae any time they come in for lunch or dinner for a full year!!!<o:p></o:p></font></p>
LOCATION:McCormick & Schmick'sBeachwood Place Mall(by Cedar Road mall entrance)
UID:e.368.198
SEQUENCE:3
DTSTAMP:20260423T203744Z
URL:https://public.beachwood.org/events/details/national-take-your-sons-daughters-to-work-day-mccormick-schmick-s-offer-04-23-2009-198
END:VEVENT

END:VCALENDAR
