BEGIN:VCALENDAR
VERSION:2.0
PRODID:-//ChamberMaster//Event Calendar 2.0//EN
METHOD:PUBLISH
X-PUBLISHED-TTL:P3D
REFRESH-INTERVAL:P3D
CALSCALE:GREGORIAN
BEGIN:VEVENT
DTSTART:20140413T180000Z
DTEND:20140413T190000Z
X-MICROSOFT-CDO-ALLDAYEVENT:FALSE
SUMMARY:Music at the Library
DESCRIPTION:Wendy Barlow and Bob Bellamy create one new sound as they integrate their American and British Isles heritage on harp and hammered dulcimer. Registration requested. \n\nSponsored by the Friends of the Library \n\nSeating is on a first come first serve basis.
X-ALT-DESC;FMTTYPE=text/html:Wendy Barlow and Bob Bellamy create one new sound as they integrate their American and British Isles heritage on harp and hammered dulcimer. Registration requested.&nbsp\;<br />\nSponsored by the Friends of the Library&nbsp\;<br />\nSeating is on a first come first serve basis.<br />\n&nbsp\;
LOCATION:Beachwood Branch of Cuyahoga County Public Library 25501 Shaker Blvd Beachwood OH 44122
UID:e.368.1090
SEQUENCE:3
DTSTAMP:20260420T090346Z
URL:https://public.beachwood.org/events/details/music-at-the-library-04-13-2014-1090
END:VEVENT

END:VCALENDAR
