BEGIN:VCALENDAR
VERSION:2.0
PRODID:-//ChamberMaster//Event Calendar 2.0//EN
METHOD:PUBLISH
X-PUBLISHED-TTL:P3D
REFRESH-INTERVAL:P3D
CALSCALE:GREGORIAN
BEGIN:VEVENT
DTSTART:20140511T180000Z
DTEND:20140511T190000Z
X-MICROSOFT-CDO-ALLDAYEVENT:FALSE
SUMMARY:Mother's Day Music : Girl Singer- A Tribute to the Ladies of the Big Bands
DESCRIPTION:Take a trip back in time with Eileen Burns\, former vocalist with the Glenn Miller Orchestra (2012-2013)\, as she transports you back to an era when beautiful lyrics and melodies were interpreted by great singers.Sponsored by the Friends of the Library. Registration requested. Seating is on a first come first serve basis.\n\n\n\nAbout the program: Ella Fitzgerald\, Rosemary Clooney\, Peggy Lee\, Doris Day\, Kay Starr\, Helen Forrest\, Jo Stafford... these are some of the familiar names who got their start singing in front of a big band. Some went on to find great success as solo artists. Others were not so lucky\, and when the the big bands waned in popularity\, so did their "girl singers." We will celebrate those songstresses of the 30s\, 40s and 50s with stories and the songs you remember\, like "Tangerine"\, "Stardust"\, "I've Heard That Song Before"\, "Why Don't You Do Right?" and many more.\n\n\n\nSponsored by the Friends of the Library. Please register at www.cuyahogalibrary.org or call 216-831-6868.\n\nSeating is on a first come first serve basis
X-ALT-DESC;FMTTYPE=text/html:<p>Take a trip back in time with Eileen Burns\, former vocalist with the Glenn Miller Orchestra (2012-2013)\, as she transports you back to an era when beautiful lyrics and melodies were interpreted by great singers.Sponsored by the Friends of the Library. Registration requested. Seating is on a first come first serve basis.<br />\n<br />\nAbout the program: Ella Fitzgerald\, Rosemary Clooney\, Peggy Lee\, Doris Day\, Kay Starr\, Helen Forrest\, Jo Stafford... these are some of the familiar names who got their start singing in front of a big band. Some went on to find great success as solo artists. Others were not so lucky\, and when the the big bands waned in popularity\, so did their &quot\;girl singers.&quot\; We will celebrate those songstresses of the 30s\, 40s and 50s with stories and the songs you remember\, like &quot\;Tangerine&quot\;\, &quot\;Stardust&quot\;\, &quot\;I&#39\;ve Heard That Song Before&quot\;\, &quot\;Why Don&#39\;t You Do Right?&quot\; and many more.<br />\n<br />\nSponsored by the Friends of the Library. Please register at <a href="http://www.cuyahogalibrary.org">www.cuyahogalibrary.org</a> or call 216-831-6868.<br />\nSeating is on a first come first serve basis</p>\n
LOCATION:Beachwood Branch of Cuyahoga County Public Library 25501 Shaker Blvd Beachwood OH 44122
UID:e.368.1094
SEQUENCE:3
DTSTAMP:20260420T074907Z
URL:https://public.beachwood.org/events/details/mother-s-day-music-girl-singer-a-tribute-to-the-ladies-of-the-big-bands-05-11-2014-1094
END:VEVENT

END:VCALENDAR
