BEGIN:VCALENDAR
VERSION:2.0
PRODID:-//ChamberMaster//Event Calendar 2.0//EN
METHOD:PUBLISH
X-PUBLISHED-TTL:P3D
REFRESH-INTERVAL:P3D
CALSCALE:GREGORIAN
BEGIN:VEVENT
DTSTART:20160508T160000Z
DTEND:20160508T210000Z
X-MICROSOFT-CDO-ALLDAYEVENT:FALSE
SUMMARY:Mother's Day Buffet
DESCRIPTION:Mother's Day is a celebration honoring the mother of the family\, as well as motherhood\, maternal bonds\, and the influence of mothers in society. Honor her this Mother's Day at Agostino's Mother's Day Buffet on Sunday\, May 8th with seating from 12 noon to 5 pm. Visit our website for the fabulous menu and reservation details at www.agostinos.events.
X-ALT-DESC;FMTTYPE=text/html:Mother&#39\;s Day is a celebration honoring the mother of the family\, as well as motherhood\, maternal bonds\, and the influence of mothers in society. Honor her this Mother&#39\;s Day at Agostino&#39\;s Mother&#39\;s Day Buffet on Sunday\, May 8th with seating from 12 noon to 5 pm. Visit our website for the fabulous menu and reservation details at <a href="http://www.agostinos.events/" rel="nofollow" target="_blank">www.agostinos.events.</a>
LOCATION:Agostino's Catering & Event Center\, 4630 Ridge Road\, Brooklyn\, Ohio 44144
UID:e.368.4853
SEQUENCE:3
DTSTAMP:20260420T141916Z
URL:https://public.beachwood.org/events/details/mother-s-day-buffet-05-08-2016-4853
END:VEVENT

END:VCALENDAR
