BEGIN:VCALENDAR
VERSION:2.0
PRODID:-//ChamberMaster//Event Calendar 2.0//EN
METHOD:PUBLISH
X-PUBLISHED-TTL:P3D
REFRESH-INTERVAL:P3D
CALSCALE:GREGORIAN
BEGIN:VEVENT
DTSTART:20160508T150000Z
DTEND:20160508T190000Z
X-MICROSOFT-CDO-ALLDAYEVENT:FALSE
SUMMARY:Mother's Day Brunch at the Hilton Garden Inn Mayfield Village
DESCRIPTION:We invite you to join us for a spectacular \n\nbrunch buffet.\n\n\n\nAdults $29.95 | Seniors $24.95 (62 & OLDER) | Kids $13.95 (AGES 4-12) | Children 3 & under Free\n\n\n\nFamilies will enjoy our complimentary photo booth!\n\n\n\nReservations required\n\nCall now to reserve your table (440) 646-1777
X-ALT-DESC;FMTTYPE=text/html:<p style="text-align: center\;"><big><span style="font-size:14px"><span style="font-family:tahoma"><span style="font-size:18px"><strong>We invite you to join us for a spectacular&nbsp\;<br />\nbrunch buffet.</strong></span><br />\n<br />\nAdults $29.95 | Seniors $24.95 (62 &amp\; OLDER) | Kids $13.95 (AGES 4-12) | Children 3 &amp\; under Free<br />\n<br />\nFamilies will enjoy our complimentary&nbsp\;photo booth!<br />\n<br />\nReservations required<br />\nCall now to reserve your table (440) 646-1777</span></span></big></p>\n\n<div style="text-align: center\;"><br />\n&nbsp\;</div>\n
LOCATION:700 Beta Drive Mayfield Village\, OH 44143
UID:e.368.4849
SEQUENCE:3
DTSTAMP:20260420T130747Z
URL:https://public.beachwood.org/events/details/mother-s-day-brunch-at-the-hilton-garden-inn-mayfield-village-05-08-2016-4849
END:VEVENT

END:VCALENDAR
