BEGIN:VCALENDAR
VERSION:2.0
PRODID:-//ChamberMaster//Event Calendar 2.0//EN
METHOD:PUBLISH
X-PUBLISHED-TTL:P3D
REFRESH-INTERVAL:P3D
CALSCALE:GREGORIAN
BEGIN:VEVENT
DTSTART:20180513T140000Z
DTEND:20180513T190000Z
X-MICROSOFT-CDO-ALLDAYEVENT:FALSE
SUMMARY:Mother's Day Brunch at The Capital Grille
DESCRIPTION:Honor Her With Elegance\n\n\n\nMark the occasion of Mother's Day with a celebration that's worthy of your guest of honor.  Join us for brunch on May 13\, where she'll enjoy attentive service\, an elegant atmosphere and a selection of brunch features.  Pair your endless mimosas with our special three-course menu including our Executive Chef's take on Shrimp and Grits.  And of course\, there's dessert made in-house daily by our pastry chef.
X-ALT-DESC;FMTTYPE=text/html:Honor Her With Elegance<br />\n<br />\nMark the occasion of Mother&#39\;s Day with a celebration that&#39\;s worthy of your guest of honor.&nbsp\; Join us for brunch on May 13\, where she&#39\;ll enjoy attentive service\, an elegant atmosphere and a selection of brunch features.&nbsp\; Pair your endless mimosas with our special three-course menu including our Executive Chef&#39\;s take on Shrimp and Grits.&nbsp\; And of course\, there&#39\;s dessert made in-house daily by our pastry chef.&nbsp\;
LOCATION:The Capital Grille 25389 Cedar Road Lyndhurst\, OH
UID:e.368.6912
SEQUENCE:3
DTSTAMP:20260420T220956Z
URL:https://public.beachwood.org/events/details/mother-s-day-brunch-at-the-capital-grille-6912
END:VEVENT

END:VCALENDAR
