BEGIN:VCALENDAR
VERSION:2.0
PRODID:-//ChamberMaster//Event Calendar 2.0//EN
METHOD:PUBLISH
X-PUBLISHED-TTL:P3D
REFRESH-INTERVAL:P3D
CALSCALE:GREGORIAN
BEGIN:VEVENT
DTSTART:20210512T160000Z
DTEND:20210512T171500Z
X-MICROSOFT-CDO-ALLDAYEVENT:FALSE
SUMMARY:Monthly Luncheon - How a Broken Neck Strengthened My Spirit
DESCRIPTION:Scott Fedor suffered a broken neck and was left paralyzed after a diving accident. He is the founder and president of\, Getting Back Up\, a nonprofit that assists spinal cord-injured individuals. Prior to his injury\, he served as Vice President of a Berkshire Hathaway subsidiary. He is an advocate member of the Adversity 2 Advocacy Alliance\, a Los Angeles-based nonprofit which promotes turning personal challenges into service to others. He also serves as a Board Member for\, LEAP\, a nonprofit which assists individuals living with disabilities.\n\n\n\nScott Fedor is a professional keynote speaker\, author\, and disability advocate. He is the author of the Amazon bestseller\, Head Strong: How a Broken Neck Strengthened My Spirit\, and his blogs have been featured across several media outlets\, including\, U.S. News & World Report\, The Mighty\, and Lea Black.\n\nMr. Fedor holds a B.S. in Finance from Lehigh University\, where he also minored in Communications and Mandarin Chinese\; and an M.B.A. in Marketing from the Ross School of Business at the University of Michigan. He currently resides in Westlake\, Ohio.
X-ALT-DESC;FMTTYPE=text/html:<p style="color: rgb(85\, 85\, 85)\; font-family: &quot\;Helvetica Neue&quot\;\, Helvetica\, Arial\, &quot\;Lucida Grande&quot\;\, sans-serif\; font-size: 14px\; margin: 10px 0px\; padding: 0px\; line-height: 21px\;"><span class="mark9lxxcrtva" data-markjs="true" data-ogab="" data-ogac="" data-ogsb="" data-ogsc="" style="margin: 0px\; padding: 0px\; border: 0px\; font: inherit\; vertical-align: baseline\; color: inherit\;">Scott</span>&nbsp\;Fedor suffered a broken neck and was left paralyzed after a diving accident. He is the founder and president of\, Getting Back Up\, a nonprofit that assists spinal cord-injured individuals. Prior to his injury\, he served as Vice President of a Berkshire Hathaway subsidiary. He is an advocate member of the Adversity 2 Advocacy Alliance\, a Los Angeles-based nonprofit which promotes turning personal challenges into service to others. He also serves as a Board Member for\, LEAP\, a nonprofit which assists individuals living with disabilities.<br />\n<br />\n<span class="mark9lxxcrtva" data-markjs="true" data-ogab="" data-ogac="" data-ogsb="" data-ogsc="" style="margin: 0px\; padding: 0px\; border: 0px\; font-variant-numeric: inherit\; font-variant-east-asian: inherit\; font-stretch: inherit\; font-size: 14px\; line-height: inherit\; font-family: &quot\;Helvetica Neue&quot\;\, Helvetica\, Arial\, &quot\;Lucida Grande&quot\;\, sans-serif\; vertical-align: baseline\; color: rgb(85\, 85\, 85)\;">Scott</span><span style="color: rgb(85\, 85\, 85)\; font-family: &quot\;Helvetica Neue&quot\;\, Helvetica\, Arial\, &quot\;Lucida Grande&quot\;\, sans-serif\; font-size: 14px\;">&nbsp\;</span><span class="mark4jmtpxhdn" data-markjs="true" data-ogab="" data-ogac="" data-ogsb="" data-ogsc="" style="margin: 0px\; padding: 0px\; border: 0px\; font-variant-numeric: inherit\; font-variant-east-asian: inherit\; font-stretch: inherit\; font-size: 14px\; line-height: inherit\; font-family: &quot\;Helvetica Neue&quot\;\, Helvetica\, Arial\, &quot\;Lucida Grande&quot\;\, sans-serif\; vertical-align: baseline\; color: rgb(85\, 85\, 85)\;">Fedor</span><span style="color: rgb(85\, 85\, 85)\; font-family: &quot\;Helvetica Neue&quot\;\, Helvetica\, Arial\, &quot\;Lucida Grande&quot\;\, sans-serif\; font-size: 14px\;">&nbsp\;is a professional keynote speaker\, author\, and disability advocate. He is the author of the Amazon bestseller\, Head Strong: How a Broken Neck Strengthened My Spirit\, and his blogs have been featured across several media outlets\, including\, U.S. News &amp\; World Report\, The Mighty\, and Lea Black.</span></p>\n\n<p style="color: rgb(85\, 85\, 85)\; font-family: &quot\;Helvetica Neue&quot\;\, Helvetica\, Arial\, &quot\;Lucida Grande&quot\;\, sans-serif\; font-size: 14px\; margin: 10px 0px\; padding: 0px\; line-height: 21px\;">Mr.&nbsp\;<span class="mark4jmtpxhdn" data-markjs="true" data-ogab="" data-ogac="" data-ogsb="" data-ogsc="" style="margin: 0px\; padding: 0px\; border: 0px\; font: inherit\; vertical-align: baseline\; color: inherit\;">Fedor</span>&nbsp\;holds a B.S. in Finance from Lehigh University\, where he also minored in Communications and Mandarin Chinese\; and an M.B.A. in Marketing from the Ross School of Business at the University of Michigan. He currently resides in Westlake\, Ohio.</p>\n
LOCATION:
UID:e.368.8413
SEQUENCE:3
DTSTAMP:20260421T113602Z
URL:https://public.beachwood.org/events/details/monthly-luncheon-how-a-broken-neck-strengthened-my-spirit-8413
END:VEVENT

END:VCALENDAR
