BEGIN:VCALENDAR
VERSION:2.0
PRODID:-//ChamberMaster//Event Calendar 2.0//EN
METHOD:PUBLISH
X-PUBLISHED-TTL:P3D
REFRESH-INTERVAL:P3D
CALSCALE:GREGORIAN
BEGIN:VEVENT
DTSTART:20210414T160000Z
DTEND:20210414T171500Z
X-MICROSOFT-CDO-ALLDAYEVENT:FALSE
SUMMARY:Monthly Luncheon - Building Connections the Dale Carnegie Way
DESCRIPTION:John Glaneman\, President and Senior Trainer\, has been a Dale Carnegie Certified Trainer\, since 2001\,  instructing dozens of classes with hundreds of participants across three states. He recently became Managing Director and minority owner of the three-franchise group. John grows the business through strategic planning\, focused client interactions and leading a diverse sales and operations force in four states and over 80 counties. He spearheads the development and execution of marketing efforts ensuring the attainment of enrollment and revenue projections for the short and long term. John also oversees the recruiting\, hiring and training of new associates.
X-ALT-DESC;FMTTYPE=text/html:John Glaneman\, President and Senior Trainer\, has been a Dale Carnegie Certified Trainer\, since 2001\,&nbsp\; instructing dozens of classes with hundreds of participants across three states. He recently became Managing Director and minority owner of the three-franchise group. John grows the business through strategic planning\, focused client interactions and leading a diverse sales and operations force in four states and over 80 counties. He spearheads the development and execution of marketing efforts ensuring the attainment of enrollment and revenue projections for the short and long term. John also oversees the recruiting\, hiring and training of new associates.&nbsp\;
LOCATION:
UID:e.368.8407
SEQUENCE:3
DTSTAMP:20260421T122529Z
URL:https://public.beachwood.org/events/details/monthly-luncheon-building-connections-the-dale-carnegie-way-8407
END:VEVENT

END:VCALENDAR
