BEGIN:VCALENDAR
VERSION:2.0
PRODID:-//ChamberMaster//Event Calendar 2.0//EN
METHOD:PUBLISH
X-PUBLISHED-TTL:P3D
REFRESH-INTERVAL:P3D
CALSCALE:GREGORIAN
BEGIN:VEVENT
DTSTART:20080828T033000Z
DTEND:20080827T173000Z
X-MICROSOFT-CDO-ALLDAYEVENT:FALSE
SUMMARY:MONTHLY LUNCHEON-AUGUST
DESCRIPTION:Join the Chamber and our sponsor\, Northcoast Business Systems\, on Wednesday\, August 27th\, at Executive Caterers at Landerhaven\, for ...Economic Development \nIn Northeast OhioPresented by ...Beachwood Chamber of CommerceGreater Cleveland PartnershipCOSEWith guest speakers ...Deb Janik\, Sr. VP\, Real Estate & Development\, Greater Cleveland PartnershipBaiju Shaw\, President and CEO\, BioEnterpriseClaire Walker\, VP Business Operations\, COSEChris Warren\, Chief of Regional Developemnt\, City of Cleveland(For speakers bios and photographs\, please click here.) This month's luncheon will begin promptly at noon and end at 1:30 PM\, instead of 1:15 PM.  For this event only\, the cost for members and nonmembers is $25 per person. All reservations are to be received no later than Friday\, August 22nd. Arrive before 11:40 AM for additional networking and be entered into a drawing to win a free lunch at our September 24th Networking Luncheon.   For questions\, please call the Chamber at 216-831-0003 or email mail@beachwood.org. When registering online\, your confirmation of your reservation is also your receipt for payment.   Note: Those paying with an AmEx card\, the confirming numbers are the 4 numbers on the front of your card. Visa and M/C are the 3 numbers on the reverse.
X-ALT-DESC;FMTTYPE=text/html:<p align="left"><font color="#333399" size="2">Join the Chamber and our sponsor\, <a href="http://www.northcoastbusiness.com">Northcoast Business Systems</a>\, on Wednesday\, August 27th\, at Executive Caterers at Landerhaven\, for ...</font></p><p align="center"><font color="#333399" size="4"><strong>Economic Development&nbsp\;<br />In Northeast Ohio</strong></font></p><p><font color="#333399"><em>Presented by ...</em></font></p><ul><li><font color="#333399">Beachwood Chamber of Commerce</font></li><li><font color="#333399">Greater Cleveland Partnership</font></li><li><font color="#333399">COSE</font></li></ul><div><font color="#333399"><em>With guest speakers ...</em></font></div><ul><li><font color="#333399">Deb Janik\, Sr. VP\, Real Estate &amp\; Development\, Greater Cleveland Partnership</font></li><li><font color="#333399">Baiju Shaw\, President and CEO\, BioEnterprise</font></li><li><font color="#333399">Claire Walker\, VP Business Operations\, COSE</font></li><li><font color="#333399">Chris Warren\, Chief of Regional Developemnt\, City of Cleveland</font></li></ul><div align="center"><font color="#333399"><em>(For speakers bios and photographs\, please <a href="https://secure.chambermaster.com/FCKeditor/UserFiles/chambers/368/File/BCC%20Items/SpeakerBios%20Aug08%20Luncheon.pdf">click here</a>.)</em></font></div><div align="center">&nbsp\;</div><div><font color="#333399">This month&rsquo\;s luncheon will begin promptly at noon and end at 1:30 PM\, instead of 1:15 PM.&nbsp\;&nbsp\;For this event only\, the cost for members and nonmembers is $25 per person. <em>All reservations are to be received no later than Friday\, August 22nd.</em></font></div><div>&nbsp\;</div><div><em><font color="#993300">Arrive before 11:40 AM for additional networking and be entered&nbsp\;into a drawing to win a free lunch at our September 24th Networking Luncheon.&nbsp\; </font></em></div><div align="left">&nbsp\;</div><div align="left"><font color="#333399">For questions\, please call the Chamber at 216-831-0003 or email </font><a href="mailto:mail@beachwood.org"><font color="#333399">mail@beachwood.org</font></a><font color="#333399">.</font></div><div align="left">&nbsp\;</div><div align="left"><font color="#333399">When registering online\, your confirmation of your reservation is also your receipt for payment.&nbsp\; </font></div><div align="left">&nbsp\;</div><div align="left"><font color="#333399"><strong>Note:</strong> Those paying with an AmEx card\, the confirming numbers are the 4 numbers on the front of your card.&nbsp\;Visa and M/C are the 3 numbers on the reverse.</font></div><div>&nbsp\;</div>
LOCATION:Executive Caterers at Landerhaven6111 Landerhaven DriveMayfield Hts.\, OH
UID:e.368.67
SEQUENCE:3
DTSTAMP:20260424T043900Z
URL:https://public.beachwood.org/events/details/monthly-luncheon-august-08-27-2008-67
END:VEVENT

END:VCALENDAR
