BEGIN:VCALENDAR
VERSION:2.0
PRODID:-//ChamberMaster//Event Calendar 2.0//EN
METHOD:PUBLISH
X-PUBLISHED-TTL:P3D
REFRESH-INTERVAL:P3D
CALSCALE:GREGORIAN
BEGIN:VEVENT
DTSTART:20090119T160000Z
DTEND:20090119T220000Z
X-MICROSOFT-CDO-ALLDAYEVENT:FALSE
SUMMARY:MLK Day at Maltz Museum
DESCRIPTION:Participate in a tribute to Martin Luther King\, Jr. at the Maltz Museum with guided tours of the American Story Gallery\, where the stories of how individuals overcame discrimination\, prejudice and adversity to come to life. Young and old alike will enjoy the special musical performance Unchained: From Slavery to Civil Rights featuring a quartet of some of Cleveland's finest musicians\, courtesy of Roots of American Music. The museum is open from 11 AM - 5 PM on January 19th and admission is free.  A special musical performance wil\,l be held at 2 PM and there are guided tours at noon\, 1 PM and 3 PM. While there visit ZAP! POW! BAM! The Superhero: The Golden Age of Comics 1938-1950.  The exhibit is held over until January 25!
X-ALT-DESC;FMTTYPE=text/html:<div>Participate in a tribute to Martin Luther King\, Jr. at the Maltz Museum with guided tours of the <strong>American Story Gallery</strong>\, where the stories of how individuals overcame discrimination\, prejudice and adversity to come to life.</div><div>&nbsp\;</div><div>Young and old alike will enjoy the special musical performance <strong>Unchained: From Slavery to Civil Rights</strong> featuring a quartet of some of Cleveland's finest musicians\, courtesy of Roots of American Music.</div><div>&nbsp\;</div><div>The museum is open from 11 AM - 5 PM on January 19th and admission is free.&nbsp\; A special musical performance wil\,l be held at 2 PM and there are guided tours at noon\, 1 PM and 3 PM.</div><div>&nbsp\;</div><div>While there visit <strong>ZAP! POW! BAM! The Superhero: The Golden Age of Comics 1938-1950</strong>.&nbsp\; The exhibit is held over until January 25!</div>
LOCATION:Maltz Museum of Jewish Heritage2929 Richmond RoadBeachwood
UID:e.368.141
SEQUENCE:3
DTSTAMP:20260423T224450Z
URL:https://public.beachwood.org/events/details/mlk-day-at-maltz-museum-01-19-2009-141
END:VEVENT

END:VCALENDAR
