BEGIN:VCALENDAR
VERSION:2.0
PRODID:-//ChamberMaster//Event Calendar 2.0//EN
METHOD:PUBLISH
X-PUBLISHED-TTL:P3D
REFRESH-INTERVAL:P3D
CALSCALE:GREGORIAN
BEGIN:VEVENT
DTSTART:20190529T200000Z
DTEND:20190529T220000Z
X-MICROSOFT-CDO-ALLDAYEVENT:FALSE
SUMMARY:Mix and Mingle for a Mission - Beachwood
DESCRIPTION:An opportunity for business professionals to meet in a social setting and expand their network with like minded\, mission driven individuals! Appetizers and games are included. \n\nContact Kelsey Ott at 216.342.5606 or krott@alz.org to RSVP or for more information!
X-ALT-DESC;FMTTYPE=text/html:<span style="background-color:rgb(255\, 255\, 255)\; color:rgb(29\, 33\, 41)\; font-family:helvetica\,arial\,sans-serif\; font-size:14px">An opportunity for business professionals to meet in a social setting and expand their network with like minded\, mission driven individuals! Appetizers and games are included. </span><br />\n<span style="background-color:rgb(255\, 255\, 255)\; color:rgb(29\, 33\, 41)\; font-family:helvetica\,arial\,sans-serif\; font-size:14px">Contact Kelsey Ott at 216.342.5606 or krott@alz.org to RSVP or for more information! </span>
LOCATION:Pinstripes 111 Park Ave. Suite 105 Beachwood\, OH 44122
UID:e.368.8085
SEQUENCE:3
DTSTAMP:20260420T082604Z
URL:https://public.beachwood.org/events/details/mix-and-mingle-for-a-mission-beachwood-8085
END:VEVENT

END:VCALENDAR
