BEGIN:VCALENDAR
VERSION:2.0
PRODID:-//ChamberMaster//Event Calendar 2.0//EN
METHOD:PUBLISH
X-PUBLISHED-TTL:P3D
REFRESH-INTERVAL:P3D
CALSCALE:GREGORIAN
BEGIN:VEVENT
DTSTART;VALUE=DATE:20160616
DTEND;VALUE=DATE:20160618
TRANSP:TRANSPARENT
X-MICROSOFT-CDO-ALLDAYEVENT:TRUE
SUMMARY:Milestones Autism Spectrum Disorder Conference
DESCRIPTION:14th Annual Milestones Autism Spectrum Disorder Conference:\n\nLife-long strategies for success\n\n\n\nJune 16-17\, 2016 at Landerhaven\n\n	75 Evidence-based workshops\n	Continuing education\n	Exhibitors & networking\n	Scholarships available\n\nRegister at milestones.org
X-ALT-DESC;FMTTYPE=text/html:14th Annual Milestones Autism Spectrum Disorder Conference:<br />\nLife-long strategies for success<br />\n<br />\nJune 16-17\, 2016 at Landerhaven\n<ul>\n	<li>75 Evidence-based workshops</li>\n	<li>Continuing education</li>\n	<li>Exhibitors &amp\; networking</li>\n	<li>Scholarships available</li>\n</ul>\nRegister at<strong> <a href="http://www.milestones.org">milestones.org</a></strong><br />\n&nbsp\;
LOCATION:Landerhaven 6111 Landerhaven Drive Mayfield Hts 44124
UID:e.368.6025
SEQUENCE:3
DTSTAMP:20260420T142041Z
URL:https://public.beachwood.org/events/details/milestones-autism-spectrum-disorder-conference-06-16-2016-6025
END:VEVENT

END:VCALENDAR
