BEGIN:VCALENDAR
VERSION:2.0
PRODID:-//ChamberMaster//Event Calendar 2.0//EN
METHOD:PUBLISH
X-PUBLISHED-TTL:P3D
REFRESH-INTERVAL:P3D
CALSCALE:GREGORIAN
BEGIN:VEVENT
DTSTART:20190221T124500Z
DTEND:20190221T140000Z
X-MICROSOFT-CDO-ALLDAYEVENT:FALSE
SUMMARY:Member Orientation
DESCRIPTION:MEMBERS ONLY EVENT!\n\n\n\nWe encourage all Chamber members to attend the February 21st Member Orientation meeting sponsored by Paramount Preferred Solutions. This is your opportunity to meet Chamber staff\, introduce your business\, and familiarize yourself with the variety of benefits the Chamber offers.\n\n\n\nThe member orientation is an informal presentation covering all you need to know to make your Chamber membership work for you.  Topics that will be covered include:\n\n	Networking Events\n	Special Events\n	Marketing Services\n	Direct Savings Programs\n	Committees\n	Communications\n\nAlso attending will be the chairs of Chamber committees\, Chamber board members and representatives from our direct savings programs. They will be there to help you and will be able to answer any questions and/or provide guidance.  Member Orientation is a great way to maximize your Chamber connection.
X-ALT-DESC;FMTTYPE=text/html:<span style="font-size:12.0pt\;">&nbsp\;<strong>MEMBERS ONLY EVENT!</strong><br />\n<br />\nWe encourage all Chamber members to attend the February 21<sup>st</sup> Member Orientation meeting sponsored by Paramount Preferred Solutions. This is your opportunity to meet Chamber staff\, introduce your business\, and familiarize yourself with the variety of benefits the Chamber offers.<br />\n<br />\nThe member orientation is an informal presentation covering all you need to know to make your Chamber membership work for you.&nbsp\; Topics that will be covered include:</span>\n<ul>\n	<li style="line-height:normal\;"><span style="font-size:12.0pt\;">Networking Events</span></li>\n	<li style="line-height:normal\;"><span style="font-size:12.0pt\;">Special Events</span></li>\n	<li style="line-height:normal\;"><span style="font-size:12.0pt\;">Marketing Services</span></li>\n	<li style="line-height:normal\;"><span style="font-size:12.0pt\;">Direct Savings Programs</span></li>\n	<li style="line-height:normal\;"><span style="font-size:12.0pt\;">Committees</span></li>\n	<li style="line-height:normal\;"><span style="font-size:12.0pt\;">Communications</span></li>\n</ul>\n<span style="font-size:12.0pt\;">Also attending will be the chairs of Chamber committees\, Chamber board members and representatives from our direct savings programs. They will be there to help you and will be able to answer any questions and/or provide guidance.&nbsp\; Member Orientation is a great way to maximize your Chamber connection.</span><br />\n&nbsp\;
LOCATION:Paramount Preferred Partners 25001 Emery Road 1st Floor Conference Room Cleveland\, OH 44128 (just west of Richmond Road\, look for a 4-story green glass building across from a storage company)
UID:e.368.8023
SEQUENCE:3
DTSTAMP:20260420T095350Z
URL:https://public.beachwood.org/events/details/member-orientation-8023
END:VEVENT

END:VCALENDAR
