BEGIN:VCALENDAR
VERSION:2.0
PRODID:-//ChamberMaster//Event Calendar 2.0//EN
METHOD:PUBLISH
X-PUBLISHED-TTL:P3D
REFRESH-INTERVAL:P3D
CALSCALE:GREGORIAN
BEGIN:VEVENT
DTSTART:20220331T130000Z
DTEND:20220331T134500Z
X-MICROSOFT-CDO-ALLDAYEVENT:FALSE
SUMMARY:Member Benefits Orientation
DESCRIPTION:Are you a new member of the chamber or just want a refresher on the benefits of your membership? Join us for a quarterly Zoom call to welcome and orient our new members and reconnect with any members who would like to revisit the benefits of chamber membership. \n\n\n\nThis is a great chance for new members to connect with the chamber and each other to do some networking and make sure they are taking full advantage of all the benefits afforded to them through the Beachwood Chamber.\n\n\n\nThis session will be a chance to:\n\n	Meet and network with other new members\n	Learn about the benefits of your chamber membership\n	Ask any questions you may have\n	Meet the chamber staff including our Executive Director and our Marketing & Events Manager\n\nThe event will be held virtually via Zoom. There is no cost to join. Grab your coffee and plan to join us!\n\n\n\nRegistration for this event is requested for planning purposes.\n\n\n\nJoin us using the Zoom link below:\n\n\n\nJoin Zoom Meeting\n\nhttps://us06web.zoom.us/j/87319321257 \n\n\n\nMeeting ID: 873 1932 1257\n\nOne tap mobile\n\n+13017158592\,\,87319321257#
X-ALT-DESC;FMTTYPE=text/html:Are you a new member of the chamber or just want a refresher on the benefits of your membership? Join us for a quarterly Zoom call to welcome and orient our new members and reconnect with any members who would like to revisit the benefits of chamber membership.&nbsp\;<br />\n<br />\nThis is a great chance for new members to connect with the chamber and each other to do some networking and make sure they are taking full advantage of all the benefits afforded to them through the Beachwood Chamber.<br />\n<br />\nThis session will be a chance to:\n<ul>\n	<li style="margin-left:0in\;">Meet and network with other new members</li>\n	<li style="margin-left:0in\;">Learn about the benefits of your chamber membership</li>\n	<li style="margin-left:0in\;">Ask any questions you may have</li>\n	<li style="margin-left:0in\;">Meet the chamber staff including our Executive Director&nbsp\;and our Marketing &amp\; Events Manager</li>\n</ul>\nThe event will be held virtually via Zoom. There is no cost to join. Grab your coffee and plan to join us!<br />\n<br />\n<strong>Registration for this event is requested for planning purposes.</strong><br />\n<br />\nJoin us using the Zoom link below:<br />\n<br />\nJoin Zoom Meeting<br />\nhttps://us06web.zoom.us/j/87319321257&nbsp\;<br />\n<br />\nMeeting ID: 873 1932 1257<br />\nOne tap mobile<br />\n+13017158592\,\,87319321257#&nbsp\;
LOCATION:Virtual event via Zoom
UID:e.368.8473
SEQUENCE:3
DTSTAMP:20260421T194124Z
URL:https://public.beachwood.org/events/details/member-benefits-orientation-8473
END:VEVENT

END:VCALENDAR
