BEGIN:VCALENDAR
VERSION:2.0
PRODID:-//ChamberMaster//Event Calendar 2.0//EN
METHOD:PUBLISH
X-PUBLISHED-TTL:P3D
REFRESH-INTERVAL:P3D
CALSCALE:GREGORIAN
BEGIN:VEVENT
DTSTART:20160115T000000Z
DTEND:20160115T013000Z
X-MICROSOFT-CDO-ALLDAYEVENT:FALSE
SUMMARY:Meet the Author: Betty Ruth Shear
DESCRIPTION:Meet the author of "Full Circle: My Success Story Living With Bipolar Disease". Books will be available for purchase and signing.\n\n\n\nFrom the author:\n\n"A little light of hope is all I wanted. The walls around me were so thick it was totally engulfing and suffocating me. But now the walls have fallen and freedom is flowing. I learned that I can live and feel good.\n\nIf I can take out a little pebble from the wall to bring some light to someone struggling with mental illness and show that there is hope for a better day\, I would have accomplished what I intend this book to do."
X-ALT-DESC;FMTTYPE=text/html:<div style="margin-left:20px">&nbsp\;Meet the author of &quot\;Full Circle: My Success Story Living With Bipolar Disease&quot\;. Books will be available for purchase and signing.<br />\n<br />\nFrom the author:<br />\n&quot\;A little light of hope is all I wanted. The walls around me were so thick it was totally engulfing and suffocating me. But now the walls have fallen and freedom is flowing. I learned that I can live and feel good.<br />\nIf I can take out a little pebble from the wall to bring some light to someone struggling with mental illness and show that there is hope for a better day\, I would have accomplished what I intend this book to do.&quot\;</div>\n
LOCATION:Beachwood Branch of Cuyahoga County Public Library 25501 Shaker Blvd Beachwood OH 44122
UID:e.368.4810
SEQUENCE:3
DTSTAMP:20260420T073933Z
URL:https://public.beachwood.org/events/details/meet-the-author-betty-ruth-shear-01-14-2016-4810
END:VEVENT

END:VCALENDAR
