BEGIN:VCALENDAR
VERSION:2.0
PRODID:-//ChamberMaster//Event Calendar 2.0//EN
METHOD:PUBLISH
X-PUBLISHED-TTL:P3D
REFRESH-INTERVAL:P3D
CALSCALE:GREGORIAN
BEGIN:VEVENT
DTSTART:20141103T190000Z
DTEND:20141103T210000Z
X-MICROSOFT-CDO-ALLDAYEVENT:FALSE
SUMMARY:Meet andf Greet with Author Maggie Anton
DESCRIPTION:Fans of Maggie Anton (Rashi's Daughters) are invited to stop by the Beachwood Branch a for a meet and greet and book signing.\n\n\n\nMaggie will be speaking that evening at 7 pm at B'nai Jeshurun Congregation in Pepper Pike\, an event that is free and open to the public.
X-ALT-DESC;FMTTYPE=text/html:Fans of Maggie Anton (Rashi&#39\;s Daughters) are invited to stop by the Beachwood Branch a for a meet and greet and book signing.<br />\n<br />\nMaggie will be speaking that evening at 7 pm at B&#39\;nai Jeshurun Congregation in Pepper Pike\, an event that is free and open to the public.
LOCATION:Beachwood Branch of Cuyahoga County Public Library 25501 Shaker Blvd Beachwood OH 44122
UID:e.368.1191
SEQUENCE:3
DTSTAMP:20260419T225947Z
URL:https://public.beachwood.org/events/details/meet-andf-greet-with-author-maggie-anton-11-03-2014-1191
END:VEVENT

END:VCALENDAR
