BEGIN:VCALENDAR
VERSION:2.0
PRODID:-//ChamberMaster//Event Calendar 2.0//EN
METHOD:PUBLISH
X-PUBLISHED-TTL:P3D
REFRESH-INTERVAL:P3D
CALSCALE:GREGORIAN
BEGIN:VEVENT
DTSTART:20150506T210000Z
DTEND:20150506T223000Z
X-MICROSOFT-CDO-ALLDAYEVENT:FALSE
SUMMARY:May Networking After Five
DESCRIPTION:May Networking After Five\n\n\n\nJoin us for our monthly Networking After Five event\n\n\n\nLight refreshments will be served.
X-ALT-DESC;FMTTYPE=text/html:May Networking After Five<br />\n<br />\nJoin us for our monthly Networking After Five event<br />\n<br />\nLight refreshments will be served.
LOCATION:25900 Central Parkway Beachwood\, OH 44122
UID:e.368.1277
SEQUENCE:3
DTSTAMP:20260419T120826Z
URL:https://public.beachwood.org/events/details/may-networking-after-five-05-06-2015-1277
END:VEVENT

END:VCALENDAR
