BEGIN:VCALENDAR
VERSION:2.0
PRODID:-//ChamberMaster//Event Calendar 2.0//EN
METHOD:PUBLISH
X-PUBLISHED-TTL:P3D
REFRESH-INTERVAL:P3D
CALSCALE:GREGORIAN
BEGIN:VEVENT
DTSTART:20140506T210000Z
DTEND:20140506T223000Z
X-MICROSOFT-CDO-ALLDAYEVENT:FALSE
SUMMARY:May Networking After Five
DESCRIPTION:May Networking After Five\n\n\n\n\n\n Join us for light refreshments and an informal networking event at the newly renovated Embassy Suites Beachwood hotel.
X-ALT-DESC;FMTTYPE=text/html:May Networking After Five<br />\n<br />\n<br />\n&nbsp\;<span style="font-size: 12px\;"><span style="font-family: verdana\;"><strong>Join us for light refreshments and an informal networking event at the newly&nbsp\;renovated&nbsp\;Embassy Suites Beachwood&nbsp\;hotel.</strong></span></span><br />\n&nbsp\;
LOCATION:Embassy Suites Beachwood 3755 Park East Drive Beachwood\, OH 44122
UID:e.368.1117
SEQUENCE:3
DTSTAMP:20260420T073645Z
URL:https://public.beachwood.org/events/details/may-networking-after-five-05-06-2014-1117
END:VEVENT

END:VCALENDAR
