BEGIN:VCALENDAR
VERSION:2.0
PRODID:-//ChamberMaster//Event Calendar 2.0//EN
METHOD:PUBLISH
X-PUBLISHED-TTL:P3D
REFRESH-INTERVAL:P3D
CALSCALE:GREGORIAN
BEGIN:VEVENT
DTSTART:20190501T210000Z
DTEND:20190501T223000Z
X-MICROSOFT-CDO-ALLDAYEVENT:FALSE
SUMMARY:May 2019 Networking After Five
DESCRIPTION:Join the Chamber this month for Networking After Five at Homewood Suites by Hilton. \n\n\n\nEnjoy\n\n	Light Refreshments\n	Networking tips\n	Drawing for a gift certificate\n\nRemember to bring your business cards!
X-ALT-DESC;FMTTYPE=text/html:Join the Chamber this month for Networking After Five at Homewood Suites by Hilton.&nbsp\;<br />\n<br />\nEnjoy\n<ul>\n	<li>Light Refreshments</li>\n	<li>Networking tips</li>\n	<li>Drawing for a gift certificate</li>\n</ul>\nRemember to bring your business cards!
LOCATION:Homewood Suites by Hilton Beachwood
UID:e.368.8025
SEQUENCE:3
DTSTAMP:20260420T082213Z
URL:https://public.beachwood.org/events/details/may-2019-networking-after-five-8025
END:VEVENT

END:VCALENDAR
