BEGIN:VCALENDAR
VERSION:2.0
PRODID:-//ChamberMaster//Event Calendar 2.0//EN
METHOD:PUBLISH
X-PUBLISHED-TTL:P3D
REFRESH-INTERVAL:P3D
CALSCALE:GREGORIAN
BEGIN:VEVENT
DTSTART:20190509T114500Z
DTEND:20190509T130000Z
X-MICROSOFT-CDO-ALLDAYEVENT:FALSE
SUMMARY:May 2019 Beachwood Women's Connection
DESCRIPTION:Join us on May 9th at 7:45 AM at the Beachwood Library for a book discussion led by Aimee Lurie.\n\n\n\nThe book we will be discussing is:  The Four Tendencies by Gretchen Rubin
X-ALT-DESC;FMTTYPE=text/html:Join us on May 9th at 7:45 AM at the Beachwood Library for a book discussion led by Aimee Lurie.<br />\n<br />\nThe book we will be discussing is:&nbsp\; <strong><em>The Four Tendencies</em></strong> by Gretchen Rubin
LOCATION:Beachwood Library Richmond Rd & Shaker Blvd West Beachwood
UID:e.368.8028
SEQUENCE:3
DTSTAMP:20260422T084858Z
URL:https://public.beachwood.org/events/details/may-2019-beachwood-women-s-connection-8028
END:VEVENT

END:VCALENDAR
